BEGIN:VCALENDAR
VERSION:2.0
PRODID:-//From Victory Road - ECPv6.15.20//NONSGML v1.0//EN
CALSCALE:GREGORIAN
METHOD:PUBLISH
X-WR-CALNAME:From Victory Road
X-ORIGINAL-URL:https://fromvictoryroad.com
X-WR-CALDESC:Events for From Victory Road
REFRESH-INTERVAL;VALUE=DURATION:PT1H
X-Robots-Tag:noindex
X-PUBLISHED-TTL:PT1H
BEGIN:VTIMEZONE
TZID:UTC
BEGIN:STANDARD
TZOFFSETFROM:+0000
TZOFFSETTO:+0000
TZNAME:UTC
DTSTART:20160101T000000
END:STANDARD
END:VTIMEZONE
BEGIN:VEVENT
DTSTART;VALUE=DATE:20170301
DTEND;VALUE=DATE:20170416
DTSTAMP:20260426T024157
CREATED:20170202T165838Z
LAST-MODIFIED:20170202T165838Z
UID:10049-1488326400-1492300799@fromvictoryroad.com
SUMMARY:Featured Artist - Unity Church
DESCRIPTION:
URL:https://fromvictoryroad.com/event/featured-artist-unity-church/
LOCATION:Unity Church\, Wichita\, KS\, United States
CATEGORIES:Featured Artist
ATTACH;FMTTYPE=image/jpeg:https://fromvictoryroad.com/wp-content/uploads/2016/02/artist-profile-pic.jpg
END:VEVENT
BEGIN:VEVENT
DTSTART;VALUE=DATE:20170401
DTEND;VALUE=DATE:20170601
DTSTAMP:20260426T024157
CREATED:20170202T170613Z
LAST-MODIFIED:20170202T170824Z
UID:10051-1491004800-1496275199@fromvictoryroad.com
SUMMARY:Featured Artist Dillon Nature Center
DESCRIPTION:I am so excited to be back at Dillon Nature Center with an all new selection of nature themed artwork!  Exhibit will run through the months of\nApril and May!
URL:https://fromvictoryroad.com/event/featured-artist-dillon-nature-center/
LOCATION:Dillon Nature Center\, 3002 E. 30th Avenue\, Hutchinson\, KS\, 67502\, United States
CATEGORIES:Featured Artist
ATTACH;FMTTYPE=image/jpeg:https://fromvictoryroad.com/wp-content/uploads/2017/02/DSCN1427-copy.jpg
END:VEVENT
BEGIN:VEVENT
DTSTART;TZID=UTC:20170406T180000
DTEND;TZID=UTC:20170406T210000
DTSTAMP:20260426T024157
CREATED:20170213T020429Z
LAST-MODIFIED:20170213T020429Z
UID:10070-1491501600-1491512400@fromvictoryroad.com
SUMMARY:Paying Tribute Workshop at Tessera Gallery
DESCRIPTION:Hands on workshop by Kayann Ausherman \nat \nTessera Fine Art Gallery\, Wichita \nThursday\, April 6 \n6—9pm \nCost $35 \n\nParticipants  will be provided with a 6 inch canvas on which to pay tribute to a loved one and preserve their memories.  In doing so\, mixed media techniques and products for layering\, aging\, and distressing will be used\, as well as including dimensional keepsake or representational items.  All materials provided. \n\nOPTIONAL:  If you would like to work in your journal\, bring it!  You can also bring a photo copy (either laser or ink jet) of old photos\, and any small items or quotes you would like to include in your piece to personalize your tribute project. \n\nCall the gallery at (316) 262-2435 to reserve your spot! \n 
URL:https://fromvictoryroad.com/event/paying-tribute-workshop-at-tessera-gallery/
LOCATION:Tessera Fine Art Gallery\, 412 E. Douglas\, Suite C\, Wichita\, KS\, 67202\, United States
CATEGORIES:Workshops
ATTACH;FMTTYPE=image/png:https://fromvictoryroad.com/wp-content/uploads/2017/02/the-memories.png
END:VEVENT
END:VCALENDAR