BEGIN:VCALENDAR
VERSION:2.0
PRODID:-//From Victory Road - ECPv6.15.20//NONSGML v1.0//EN
CALSCALE:GREGORIAN
METHOD:PUBLISH
X-ORIGINAL-URL:https://fromvictoryroad.com
X-WR-CALDESC:Events for From Victory Road
REFRESH-INTERVAL;VALUE=DURATION:PT1H
X-Robots-Tag:noindex
X-PUBLISHED-TTL:PT1H
BEGIN:VTIMEZONE
TZID:UTC
BEGIN:STANDARD
TZOFFSETFROM:+0000
TZOFFSETTO:+0000
TZNAME:UTC
DTSTART:20170101T000000
END:STANDARD
END:VTIMEZONE
BEGIN:VEVENT
DTSTART;VALUE=DATE:20180401
DTEND;VALUE=DATE:20180501
DTSTAMP:20260425T124528
CREATED:20180409T172904Z
LAST-MODIFIED:20180409T172904Z
UID:12458-1522540800-1525132799@fromvictoryroad.com
SUMMARY:Featured Artist at Botanica
DESCRIPTION:Featured artist through the month of April at Botanica! Stop by the lobby and take a look!  There is no charge if you only want to visit the lobby\, but you might not want to miss their month long Fairies and Forts event!
URL:https://fromvictoryroad.com/event/featured-artist-at-botanica/
LOCATION:Botanica\, Wichita\, KS\, United States
CATEGORIES:Featured Artist
ATTACH;FMTTYPE=image/jpeg:https://fromvictoryroad.com/wp-content/uploads/2018/04/botanica-1-1-e1523294359364.jpg
END:VEVENT
BEGIN:VEVENT
DTSTART;TZID=UTC:20180414T100000
DTEND;TZID=UTC:20180414T160000
DTSTAMP:20260425T124528
CREATED:20180409T173847Z
LAST-MODIFIED:20180409T173847Z
UID:12463-1523700000-1523721600@fromvictoryroad.com
SUMMARY:The Workroom's Artisan Market
DESCRIPTION:The Workroom is celebrating it’s 5th Anniversary with an Artisan Market\, and I will have a booth there with art\, prints\, and other crafty wares!
URL:https://fromvictoryroad.com/event/the-workrooms-artisan-market/
LOCATION:The Workroom\, 150 N. Cleveland St.\, Wichita\, KS\, 67214\, United States
CATEGORIES:Craft Shows
ATTACH;FMTTYPE=image/jpeg:https://fromvictoryroad.com/wp-content/uploads/2018/04/Mounted-Prints-e1523295176624.jpg
END:VEVENT
END:VCALENDAR