BEGIN:VCALENDAR
VERSION:2.0
PRODID:-//From Victory Road - ECPv6.15.20//NONSGML v1.0//EN
CALSCALE:GREGORIAN
METHOD:PUBLISH
X-ORIGINAL-URL:https://fromvictoryroad.com
X-WR-CALDESC:Events for From Victory Road
REFRESH-INTERVAL;VALUE=DURATION:PT1H
X-Robots-Tag:noindex
X-PUBLISHED-TTL:PT1H
BEGIN:VTIMEZONE
TZID:UTC
BEGIN:STANDARD
TZOFFSETFROM:+0000
TZOFFSETTO:+0000
TZNAME:UTC
DTSTART:20170101T000000
END:STANDARD
END:VTIMEZONE
BEGIN:VEVENT
DTSTART;TZID=UTC:20180510T180000
DTEND;TZID=UTC:20180510T210000
DTSTAMP:20260425T113637
CREATED:20180409T150254Z
LAST-MODIFIED:20180409T150254Z
UID:12448-1525975200-1525986000@fromvictoryroad.com
SUMMARY:Lettering Workshop
DESCRIPTION:  \n \nLearn how to dress up your own print and script lettering to use in artwork\, Bible journaling\, art journals\, scrapbooks\, and more!
URL:https://fromvictoryroad.com/event/lettering-workshop/
CATEGORIES:Workshops
ATTACH;FMTTYPE=image/jpeg:https://fromvictoryroad.com/wp-content/uploads/2018/04/Ex-6.7-e1523285995868.jpg
END:VEVENT
END:VCALENDAR