BEGIN:VCALENDAR
VERSION:2.0
PRODID:-//From Victory Road - ECPv6.15.20//NONSGML v1.0//EN
CALSCALE:GREGORIAN
METHOD:PUBLISH
X-ORIGINAL-URL:https://fromvictoryroad.com
X-WR-CALDESC:Events for From Victory Road
REFRESH-INTERVAL;VALUE=DURATION:PT1H
X-Robots-Tag:noindex
X-PUBLISHED-TTL:PT1H
BEGIN:VTIMEZONE
TZID:UTC
BEGIN:STANDARD
TZOFFSETFROM:+0000
TZOFFSETTO:+0000
TZNAME:UTC
DTSTART:20180101T000000
END:STANDARD
END:VTIMEZONE
BEGIN:VEVENT
DTSTART;TZID=UTC:20190119T190000
DTEND;TZID=UTC:20190119T203000
DTSTAMP:20260423T092459
CREATED:20190116T134402Z
LAST-MODIFIED:20190116T134402Z
UID:13245-1547924400-1547929800@fromvictoryroad.com
SUMMARY:Kansas Through the Eyes of the Artist Opening Reception
DESCRIPTION:“Our Kansas” \nCarriage Factory Art Gallery is again hosting the juried show “Kansas Through the Eyes of the Artist” which will be up through Jan and February.  I am pleased to have two pieces accepted in this show.  Come out for the opening reception and enjoy great Kansas art\, refreshments\, and music…. not to mention rubbing shoulders with the artists and getting to ask them about their work!
URL:https://fromvictoryroad.com/event/kansas-through-the-eyes-of-the-artist-opening-reception/
LOCATION:Carriage Factory Art Gallery\, 128 E. 6th St\, Newton\, KS\, 67114\, United States
CATEGORIES:Art Show
ATTACH;FMTTYPE=image/jpeg:https://fromvictoryroad.com/wp-content/uploads/2018/12/Our-Kansas-wm.jpg
END:VEVENT
END:VCALENDAR