BEGIN:VCALENDAR
VERSION:2.0
PRODID:-//From Victory Road - ECPv6.15.20//NONSGML v1.0//EN
CALSCALE:GREGORIAN
METHOD:PUBLISH
X-WR-CALNAME:From Victory Road
X-ORIGINAL-URL:https://fromvictoryroad.com
X-WR-CALDESC:Events for From Victory Road
REFRESH-INTERVAL;VALUE=DURATION:PT1H
X-Robots-Tag:noindex
X-PUBLISHED-TTL:PT1H
BEGIN:VTIMEZONE
TZID:UTC
BEGIN:STANDARD
TZOFFSETFROM:+0000
TZOFFSETTO:+0000
TZNAME:UTC
DTSTART:20180101T000000
END:STANDARD
END:VTIMEZONE
BEGIN:VEVENT
DTSTART;TZID=UTC:20190310T140000
DTEND;TZID=UTC:20190310T170000
DTSTAMP:20260423T055827
CREATED:20190116T131008Z
LAST-MODIFIED:20190202T155845Z
UID:13234-1552226400-1552237200@fromvictoryroad.com
SUMMARY:Bible Journaling Workshop
DESCRIPTION:I am partnering with my daughter to kick of the first of a series of workshops near Haven\, Kansas. We will cover all kinds of Bible Journaling products\, tools\, tips\, and tricks. You will learn to draw modern florals\, and how to use stamps\, stickers\, and stencils effectively. We will also cover journaling Scripture in an art journal as well for those of you who would rather use an art journal.
URL:https://fromvictoryroad.com/event/bible-journaling-workshop/
LOCATION:Victory Road\, KS\, United States
CATEGORIES:Workshops
ATTACH;FMTTYPE=image/jpeg:https://fromvictoryroad.com/wp-content/uploads/2019/01/Bloom-where-you-are-planted.jpg
ORGANIZER;CN="Kayann Ausherman":MAILTO:victoryrd@hotmail.com
END:VEVENT
END:VCALENDAR