BEGIN:VCALENDAR
VERSION:2.0
PRODID:-//From Victory Road - ECPv6.15.20//NONSGML v1.0//EN
CALSCALE:GREGORIAN
METHOD:PUBLISH
X-ORIGINAL-URL:https://fromvictoryroad.com
X-WR-CALDESC:Events for From Victory Road
REFRESH-INTERVAL;VALUE=DURATION:PT1H
X-Robots-Tag:noindex
X-PUBLISHED-TTL:PT1H
BEGIN:VTIMEZONE
TZID:UTC
BEGIN:STANDARD
TZOFFSETFROM:+0000
TZOFFSETTO:+0000
TZNAME:UTC
DTSTART:20180101T000000
END:STANDARD
END:VTIMEZONE
BEGIN:VEVENT
DTSTART;TZID=UTC:20190504T090000
DTEND;TZID=UTC:20190504T160000
DTSTAMP:20260423T073716
CREATED:20190426T134059Z
LAST-MODIFIED:20190426T134059Z
UID:13633-1556960400-1556985600@fromvictoryroad.com
SUMMARY:Hutchinson Art Fair
DESCRIPTION:
URL:https://fromvictoryroad.com/event/hutchinson-art-fair/
LOCATION:Sunflower Building\, Kansas State Fairgrounds\, Hutchinson\, KS\, United States
CATEGORIES:Art Show
ATTACH;FMTTYPE=image/png:https://fromvictoryroad.com/wp-content/uploads/2019/04/Hutchinson-art-show.png
ORGANIZER;CN="Hutchinson Art Association":MAILTO:hutchartcenter@gmail.com
END:VEVENT
END:VCALENDAR