BEGIN:VCALENDAR
VERSION:2.0
PRODID:-//From Victory Road - ECPv6.15.20//NONSGML v1.0//EN
CALSCALE:GREGORIAN
METHOD:PUBLISH
X-ORIGINAL-URL:https://fromvictoryroad.com
X-WR-CALDESC:Events for From Victory Road
REFRESH-INTERVAL;VALUE=DURATION:PT1H
X-Robots-Tag:noindex
X-PUBLISHED-TTL:PT1H
BEGIN:VTIMEZONE
TZID:UTC
BEGIN:STANDARD
TZOFFSETFROM:+0000
TZOFFSETTO:+0000
TZNAME:UTC
DTSTART:20180101T000000
END:STANDARD
END:VTIMEZONE
BEGIN:VEVENT
DTSTART;TZID=UTC:20191006T140000
DTEND;TZID=UTC:20191006T170000
DTSTAMP:20260423T053814
CREATED:20190805T210007Z
LAST-MODIFIED:20190902T223149Z
UID:13782-1570370400-1570381200@fromvictoryroad.com
SUMMARY:Bible Journal Workshop
DESCRIPTION:
URL:https://fromvictoryroad.com/event/bible-journal-workshop/
LOCATION:Victory Road\, KS\, United States
CATEGORIES:Workshops
ATTACH;FMTTYPE=image/jpeg:https://fromvictoryroad.com/wp-content/uploads/2019/09/example-5-copy-e1567461848633.jpg
ORGANIZER;CN="Kayann Ausherman":MAILTO:victoryrd@hotmail.com
END:VEVENT
END:VCALENDAR