BEGIN:VCALENDAR
VERSION:2.0
PRODID:-//From Victory Road - ECPv6.15.20//NONSGML v1.0//EN
CALSCALE:GREGORIAN
METHOD:PUBLISH
X-WR-CALNAME:From Victory Road
X-ORIGINAL-URL:https://fromvictoryroad.com
X-WR-CALDESC:Events for From Victory Road
REFRESH-INTERVAL;VALUE=DURATION:PT1H
X-Robots-Tag:noindex
X-PUBLISHED-TTL:PT1H
BEGIN:VTIMEZONE
TZID:UTC
BEGIN:STANDARD
TZOFFSETFROM:+0000
TZOFFSETTO:+0000
TZNAME:UTC
DTSTART:20180101T000000
END:STANDARD
END:VTIMEZONE
BEGIN:VEVENT
DTSTART;TZID=UTC:20191019T090000
DTEND;TZID=UTC:20191019T160000
DTSTAMP:20260423T053435
CREATED:20190903T133532Z
LAST-MODIFIED:20190903T133652Z
UID:13853-1571475600-1571500800@fromvictoryroad.com
SUMMARY:Citra Solv Workshop
DESCRIPTION:This workshop combines both basic and advanced Citra Solv techniques into a one day workshop hosted by the McPherson Art Center.
URL:https://fromvictoryroad.com/event/citra-solv-workshop/
LOCATION:McPherson Art Center
CATEGORIES:Workshops
ATTACH;FMTTYPE=image/jpeg:https://fromvictoryroad.com/wp-content/uploads/2019/07/Womens-March-sm.jpg
END:VEVENT
END:VCALENDAR