BEGIN:VCALENDAR
VERSION:2.0
PRODID:-//From Victory Road - ECPv6.15.20//NONSGML v1.0//EN
CALSCALE:GREGORIAN
METHOD:PUBLISH
X-WR-CALNAME:From Victory Road
X-ORIGINAL-URL:https://fromvictoryroad.com
X-WR-CALDESC:Events for From Victory Road
REFRESH-INTERVAL;VALUE=DURATION:PT1H
X-Robots-Tag:noindex
X-PUBLISHED-TTL:PT1H
BEGIN:VTIMEZONE
TZID:UTC
BEGIN:STANDARD
TZOFFSETFROM:+0000
TZOFFSETTO:+0000
TZNAME:UTC
DTSTART:20180101T000000
END:STANDARD
END:VTIMEZONE
BEGIN:VEVENT
DTSTART;VALUE=DATE:20191130
DTEND;VALUE=DATE:20191229
DTSTAMP:20260423T074049
CREATED:20191027T215610Z
LAST-MODIFIED:20191027T215610Z
UID:14000-1575072000-1577577599@fromvictoryroad.com
SUMMARY:Featured Artist at Larksfield Place
DESCRIPTION:le\,
URL:https://fromvictoryroad.com/event/featured-artist-at-larksfield-place-2/
LOCATION:Larksfield Place\, 2727 N Rock Rd\, Wichita\, KS\, 67226\, United States
CATEGORIES:Featured Artist
END:VEVENT
BEGIN:VEVENT
DTSTART;VALUE=DATE:20191130
DTEND;VALUE=DATE:20200204
DTSTAMP:20260423T074049
CREATED:20200120T151010Z
LAST-MODIFIED:20200120T151010Z
UID:14246-1575072000-1580774399@fromvictoryroad.com
SUMMARY:Featured Artist at Larksfield Place
DESCRIPTION:
URL:https://fromvictoryroad.com/event/featured-artist-at-larksfield-place-3/
LOCATION:Larksfield Place\, 2727 N Rock Rd\, Wichita\, KS\, 67226\, United States
CATEGORIES:Featured Artist
ATTACH;FMTTYPE=image/png:https://fromvictoryroad.com/wp-content/uploads/2019/12/Pleasure-in-Pink-sm.png
END:VEVENT
BEGIN:VEVENT
DTSTART;TZID=UTC:20191207T090000
DTEND;TZID=UTC:20191207T120000
DTSTAMP:20260423T074049
CREATED:20190918T161427Z
LAST-MODIFIED:20190918T161427Z
UID:13914-1575709200-1575720000@fromvictoryroad.com
SUMMARY:A Touch of Whimsy
DESCRIPTION:There is a part deep within us that enjoys something whimsical… something that steps beyond reality to the place of play and dreams. It may be boldly whimsical\, or a bit more subtle\, but its presence in any degree transforms our art into something that brings a smile to those who view it.  According to the dictionary\, whimsy is  the quality of being slightly odd or playfully humorous\, especially in an endearing way. Just a touch of whimsy can help express things in our art that reality just can’t!  It evokes an emotion… usually on the lighthearted\, happy side.  Whimsy seems like an intangible quality… but is it really?  In this workshop we will practice four practical techniques to create a finished whimsical piece of art or art journal page. \n 
URL:https://fromvictoryroad.com/event/a-touch-of-whimsy/
LOCATION:Victory Road\, KS\, United States
CATEGORIES:Workshops
ATTACH;FMTTYPE=image/jpeg:https://fromvictoryroad.com/wp-content/uploads/2016/10/touch-of-whimsy-example.jpg
ORGANIZER;CN="Kayann Ausherman":MAILTO:victoryrd@hotmail.com
END:VEVENT
END:VCALENDAR