BEGIN:VCALENDAR
VERSION:2.0
PRODID:-//From Victory Road - ECPv6.15.20//NONSGML v1.0//EN
CALSCALE:GREGORIAN
METHOD:PUBLISH
X-WR-CALNAME:From Victory Road
X-ORIGINAL-URL:https://fromvictoryroad.com
X-WR-CALDESC:Events for From Victory Road
REFRESH-INTERVAL;VALUE=DURATION:PT1H
X-Robots-Tag:noindex
X-PUBLISHED-TTL:PT1H
BEGIN:VTIMEZONE
TZID:UTC
BEGIN:STANDARD
TZOFFSETFROM:+0000
TZOFFSETTO:+0000
TZNAME:UTC
DTSTART:20170101T000000
END:STANDARD
END:VTIMEZONE
BEGIN:VEVENT
DTSTART;TZID=UTC:20191004T170000
DTEND;TZID=UTC:20191004T213000
DTSTAMP:20260423T072858
CREATED:20190902T190434Z
LAST-MODIFIED:20190902T190507Z
UID:13837-1570208400-1570224600@fromvictoryroad.com
SUMMARY:Wichita's First Friday Art Crawl
DESCRIPTION:Enjoy Wichita’s First Friday Art Crawl!  My art can be found at Gallery XII.
URL:https://fromvictoryroad.com/event/wichitas-first-friday-art-crawl/
CATEGORIES:Art Crawl
ATTACH;FMTTYPE=image/jpeg:https://fromvictoryroad.com/wp-content/uploads/2019/02/Gallery-XII-2.jpg
END:VEVENT
BEGIN:VEVENT
DTSTART;TZID=UTC:20190906T170000
DTEND;TZID=UTC:20190906T213000
DTSTAMP:20260423T072858
CREATED:20190806T013048Z
LAST-MODIFIED:20190806T013244Z
UID:13814-1567789200-1567805400@fromvictoryroad.com
SUMMARY:First Friday
DESCRIPTION:Help Wichita transition to a First Friday Artwalk!
URL:https://fromvictoryroad.com/event/first-friday/
CATEGORIES:Art Crawl
ATTACH;FMTTYPE=image/jpeg:https://fromvictoryroad.com/wp-content/uploads/2019/02/Gallery-XII-2.jpg
END:VEVENT
BEGIN:VEVENT
DTSTART;VALUE=DATE:20190611
DTEND;VALUE=DATE:20190617
DTSTAMP:20260423T072858
CREATED:20190126T155806Z
LAST-MODIFIED:20190126T155806Z
UID:13353-1560211200-1560729599@fromvictoryroad.com
SUMMARY:Artist in Residence at the Red Barn Studio
DESCRIPTION:I am thrilled to be artist in residence once again at The Red Barn studio in Lindsborg\, home of the late artist Lester Raymer.  This year will be extra fun because I will be in residence with my daughter Abby\, who is a high school art teacher.  We will be working in some fiber art\, and I am also looking forward to spending some time art journaling.  We will also be holding a workshop while we are there\, as well as a reception\, demo\, and hands on project during the second Friday Maker’s Street! \nLindsborg is a fun and artsy little town\, so make a day of it when you come by to visit!
URL:https://fromvictoryroad.com/event/artist-in-residence-at-the-red-barn-studio-3/
LOCATION:The Red Barn Studio\, 212 S. Main\,\, Lindsborg\, KS\, 67456\, United States
CATEGORIES:Art Crawl,Featured Artist
ATTACH;FMTTYPE=image/jpeg:https://fromvictoryroad.com/wp-content/uploads/2017/04/Red-Barn-Studio.jpg
END:VEVENT
BEGIN:VEVENT
DTSTART;TZID=UTC:20190531T173000
DTEND;TZID=UTC:20190531T213000
DTSTAMP:20260423T072858
CREATED:20190126T160316Z
LAST-MODIFIED:20190126T160316Z
UID:13360-1559323800-1559338200@fromvictoryroad.com
SUMMARY:Final Friday Art Crawl
DESCRIPTION:
URL:https://fromvictoryroad.com/event/final-friday-art-crawl-6/
CATEGORIES:Art Crawl
END:VEVENT
BEGIN:VEVENT
DTSTART;TZID=UTC:20190426T173000
DTEND;TZID=UTC:20190426T213000
DTSTAMP:20260423T072858
CREATED:20190126T160154Z
LAST-MODIFIED:20190126T160154Z
UID:13358-1556299800-1556314200@fromvictoryroad.com
SUMMARY:Final Friday Art Crawl
DESCRIPTION:
URL:https://fromvictoryroad.com/event/final-friday-art-crawl-5/
CATEGORIES:Art Crawl
END:VEVENT
BEGIN:VEVENT
DTSTART;TZID=UTC:20190329T173000
DTEND;TZID=UTC:20190329T213000
DTSTAMP:20260423T072858
CREATED:20190126T155944Z
LAST-MODIFIED:20190126T160025Z
UID:13355-1553880600-1553895000@fromvictoryroad.com
SUMMARY:Final Friday Art Crawl
DESCRIPTION:
URL:https://fromvictoryroad.com/event/final-friday-art-crawl-4/
CATEGORIES:Art Crawl
END:VEVENT
BEGIN:VEVENT
DTSTART;TZID=UTC:20190222T173000
DTEND;TZID=UTC:20190222T210000
DTSTAMP:20260423T072858
CREATED:20190116T150522Z
LAST-MODIFIED:20190116T150522Z
UID:13250-1550856600-1550869200@fromvictoryroad.com
SUMMARY:Final Friday Art Crawl
DESCRIPTION:The Final Friday Art Crawl is a long standing Wichita tradition celebrating the city’s art community.  Galleries and shops are open for the evening and the Q line trolly is ready to take you to the different venues free of charge!  I will be hanging out at Tessera Fine Art Gallery where I have a wall of art\, cards\, stencils\, and will be there to tell you about the upcoming March workshops.
URL:https://fromvictoryroad.com/event/final-friday-art-crawl-3/
LOCATION:Tessera Fine Art Gallery\, 412 E. Douglas\, Suite C\, Wichita\, KS\, 67202\, United States
CATEGORIES:Art Crawl
ATTACH;FMTTYPE=image/jpeg:https://fromvictoryroad.com/wp-content/uploads/2018/05/tessera-gallery-e1526913452345.jpg
END:VEVENT
BEGIN:VEVENT
DTSTART;TZID=UTC:20190125T173000
DTEND;TZID=UTC:20190125T210000
DTSTAMP:20260423T072858
CREATED:20190116T135423Z
LAST-MODIFIED:20190116T135423Z
UID:13248-1548437400-1548450000@fromvictoryroad.com
SUMMARY:Final Friday Art Crawl
DESCRIPTION:Stop by and see my work\, as well as sign up for upcoming workshops at Tessera Fine Art Gallery during tonight’s art crawl in Wichita.  So many fun things to do and see on Final Friday!  Ride the Q line trolly for free and do some gallery hopping!  Unfortunately I won’t be hanging out at the gallery like usual as I will be attending an event in Hutchinson and I have not yet figured out how to be in two places at once!
URL:https://fromvictoryroad.com/event/final-friday-art-crawl-2/
LOCATION:Tessera Fine Art Gallery\, 412 E. Douglas\, Suite C\, Wichita\, KS\, 67202\, United States
CATEGORIES:Art Crawl
ATTACH;FMTTYPE=image/jpeg:https://fromvictoryroad.com/wp-content/uploads/2018/05/tessera-gallery-e1526913452345.jpg
END:VEVENT
BEGIN:VEVENT
DTSTART;TZID=UTC:20180629T170000
DTEND;TZID=UTC:20180629T210000
DTSTAMP:20260423T072858
CREATED:20180521T144225Z
LAST-MODIFIED:20180521T144225Z
UID:12579-1530291600-1530306000@fromvictoryroad.com
SUMMARY:Final Friday Art Crawl
DESCRIPTION:Final Friday is a fun night out on the town for the art scene in Wichita.  Multiple galleries and venues are open for this special night each month.  You can almost always find me in the classroom at Tessera Fine Art Gallery (which is also where the music and food are!). Stop by\, take a look at some great art\, see what I am working on\, and visit artists in their studios!
URL:https://fromvictoryroad.com/event/final-friday-art-crawl/
LOCATION:Tessera Fine Art Gallery\, 412 E. Douglas\, Suite C\, Wichita\, KS\, 67202\, United States
CATEGORIES:Art Crawl
ATTACH;FMTTYPE=image/jpeg:https://fromvictoryroad.com/wp-content/uploads/2018/05/tessera-gallery-e1526913452345.jpg
END:VEVENT
BEGIN:VEVENT
DTSTART;TZID=UTC:20180525T170000
DTEND;TZID=UTC:20180525T210000
DTSTAMP:20260423T072858
CREATED:20180521T143916Z
LAST-MODIFIED:20180521T143916Z
UID:12576-1527267600-1527282000@fromvictoryroad.com
SUMMARY:Final Friday
DESCRIPTION:Final Friday is a fun night out on the town for the art scene in Wichita.  Multiple galleries and venues are open for this special night each month.  You can almost always find me in the classroom at Tessera Fine Art Gallery (which is also where the music and food are!). Stop by\, take a look at some great art\, see what I am working on\, and visit artists in their studios!
URL:https://fromvictoryroad.com/event/final-friday/
LOCATION:Tessera Fine Art Gallery\, 412 E. Douglas\, Suite C\, Wichita\, KS\, 67202\, United States
CATEGORIES:Art Crawl
ATTACH;FMTTYPE=image/jpeg:https://fromvictoryroad.com/wp-content/uploads/2018/05/tessera-gallery-e1526913452345.jpg
END:VEVENT
END:VCALENDAR