BEGIN:VCALENDAR
VERSION:2.0
PRODID:-//From Victory Road - ECPv6.15.20//NONSGML v1.0//EN
CALSCALE:GREGORIAN
METHOD:PUBLISH
X-WR-CALNAME:From Victory Road
X-ORIGINAL-URL:https://fromvictoryroad.com
X-WR-CALDESC:Events for From Victory Road
REFRESH-INTERVAL;VALUE=DURATION:PT1H
X-Robots-Tag:noindex
X-PUBLISHED-TTL:PT1H
BEGIN:VTIMEZONE
TZID:UTC
BEGIN:STANDARD
TZOFFSETFROM:+0000
TZOFFSETTO:+0000
TZNAME:UTC
DTSTART:20170101T000000
END:STANDARD
END:VTIMEZONE
BEGIN:VEVENT
DTSTART;VALUE=DATE:20180601
DTEND;VALUE=DATE:20180701
DTSTAMP:20260423T235340
CREATED:20180521T142908Z
LAST-MODIFIED:20180521T142908Z
UID:12571-1527811200-1530403199@fromvictoryroad.com
SUMMARY:Featured Artist 1st National Bank in Hutchinson\, KS
DESCRIPTION:This will be the second time that I will enjoy being the featured artist at First National Bank in Hutchinson\, but the last time was around 5 years ago\, and my art has evolved since then! The art will be on the wall behind the tellers.
URL:https://fromvictoryroad.com/event/featured-artist-1st-national-bank-in-hutchinson-ks/
LOCATION:First National Bank\, 1 N Main St\, Hutchinson\, KS\, 67501\, United States
CATEGORIES:Featured Artist
ATTACH;FMTTYPE=image/jpeg:https://fromvictoryroad.com/wp-content/uploads/2018/05/IMG_0307-e1526912839761.jpg
END:VEVENT
END:VCALENDAR