BEGIN:VCALENDAR
VERSION:2.0
PRODID:-//From Victory Road - ECPv6.15.20//NONSGML v1.0//EN
CALSCALE:GREGORIAN
METHOD:PUBLISH
X-ORIGINAL-URL:https://fromvictoryroad.com
X-WR-CALDESC:Events for From Victory Road
REFRESH-INTERVAL;VALUE=DURATION:PT1H
X-Robots-Tag:noindex
X-PUBLISHED-TTL:PT1H
BEGIN:VTIMEZONE
TZID:UTC
BEGIN:STANDARD
TZOFFSETFROM:+0000
TZOFFSETTO:+0000
TZNAME:UTC
DTSTART:20170101T000000
END:STANDARD
END:VTIMEZONE
BEGIN:VEVENT
DTSTART;TZID=UTC:20181007T080000
DTEND;TZID=UTC:20181019T170000
DTSTAMP:20260423T170334
CREATED:20170825T195435Z
LAST-MODIFIED:20170825T195435Z
UID:11717-1538899200-1539968400@fromvictoryroad.com
SUMMARY:Artist in Residence at the Red Barn Studio
DESCRIPTION:I am thrilled to be artist in residence at the Red Barn Studio in Lindsborg\, KS for my third year running!
URL:https://fromvictoryroad.com/event/artist-in-residence-at-the-red-barn-studio-2/
LOCATION:The Red Barn Studio\, 212 S. Main\,\, Lindsborg\, KS\, 67456\, United States
CATEGORIES:Featured Artist
ATTACH;FMTTYPE=image/jpeg:https://fromvictoryroad.com/wp-content/uploads/2017/08/img_0609-e1503690559499.jpg
END:VEVENT
END:VCALENDAR