BEGIN:VCALENDAR
VERSION:2.0
PRODID:-//From Victory Road - ECPv6.15.20//NONSGML v1.0//EN
CALSCALE:GREGORIAN
METHOD:PUBLISH
X-WR-CALNAME:From Victory Road
X-ORIGINAL-URL:https://fromvictoryroad.com
X-WR-CALDESC:Events for From Victory Road
REFRESH-INTERVAL;VALUE=DURATION:PT1H
X-Robots-Tag:noindex
X-PUBLISHED-TTL:PT1H
BEGIN:VTIMEZONE
TZID:UTC
BEGIN:STANDARD
TZOFFSETFROM:+0000
TZOFFSETTO:+0000
TZNAME:UTC
DTSTART:20190101T000000
END:STANDARD
END:VTIMEZONE
BEGIN:VEVENT
DTSTART;TZID=UTC:20200123T183000
DTEND;TZID=UTC:20200123T193000
DTSTAMP:20260423T235809
CREATED:20200120T151741Z
LAST-MODIFIED:20200120T151741Z
UID:14252-1579804200-1579807800@fromvictoryroad.com
SUMMARY:Artist's Reception
DESCRIPTION:
URL:https://fromvictoryroad.com/event/artists-reception/
LOCATION:Derby Library\, 1600 E\, Walnut Grove Rd\, Derby\, KS\, 67037\, United States
CATEGORIES:Featured Artist
ATTACH;FMTTYPE=image/jpeg:https://fromvictoryroad.com/wp-content/uploads/2020/01/Busy-Bodies-sm.jpg
END:VEVENT
BEGIN:VEVENT
DTSTART;VALUE=DATE:20210621
DTEND;VALUE=DATE:20210626
DTSTAMP:20260423T235809
CREATED:20210615T224251Z
LAST-MODIFIED:20210615T224251Z
UID:15241-1624233600-1624665599@fromvictoryroad.com
SUMMARY:Artist in Residence at the Red Barn Studio
DESCRIPTION:
URL:https://fromvictoryroad.com/event/artist-in-residence-at-the-red-barn-studio-4/
LOCATION:The Red Barn Studio\, 212 S. Main\,\, Lindsborg\, KS\, 67456\, United States
CATEGORIES:Featured Artist
ATTACH;FMTTYPE=image/jpeg:https://fromvictoryroad.com/wp-content/uploads/2019/06/Red-Barn-Studio.jpg
END:VEVENT
END:VCALENDAR