BEGIN:VCALENDAR
VERSION:2.0
PRODID:-//From Victory Road - ECPv6.15.20//NONSGML v1.0//EN
CALSCALE:GREGORIAN
METHOD:PUBLISH
X-WR-CALNAME:From Victory Road
X-ORIGINAL-URL:https://fromvictoryroad.com
X-WR-CALDESC:Events for From Victory Road
REFRESH-INTERVAL;VALUE=DURATION:PT1H
X-Robots-Tag:noindex
X-PUBLISHED-TTL:PT1H
BEGIN:VTIMEZONE
TZID:UTC
BEGIN:STANDARD
TZOFFSETFROM:+0000
TZOFFSETTO:+0000
TZNAME:UTC
DTSTART:20180101T000000
END:STANDARD
END:VTIMEZONE
BEGIN:VEVENT
DTSTART;VALUE=DATE:20191130
DTEND;VALUE=DATE:20191229
DTSTAMP:20260423T093031
CREATED:20191027T215610Z
LAST-MODIFIED:20191027T215610Z
UID:14000-1575072000-1577577599@fromvictoryroad.com
SUMMARY:Featured Artist at Larksfield Place
DESCRIPTION:le\,
URL:https://fromvictoryroad.com/event/featured-artist-at-larksfield-place-2/
LOCATION:Larksfield Place\, 2727 N Rock Rd\, Wichita\, KS\, 67226\, United States
CATEGORIES:Featured Artist
END:VEVENT
BEGIN:VEVENT
DTSTART;VALUE=DATE:20191130
DTEND;VALUE=DATE:20200204
DTSTAMP:20260423T093031
CREATED:20200120T151010Z
LAST-MODIFIED:20200120T151010Z
UID:14246-1575072000-1580774399@fromvictoryroad.com
SUMMARY:Featured Artist at Larksfield Place
DESCRIPTION:
URL:https://fromvictoryroad.com/event/featured-artist-at-larksfield-place-3/
LOCATION:Larksfield Place\, 2727 N Rock Rd\, Wichita\, KS\, 67226\, United States
CATEGORIES:Featured Artist
ATTACH;FMTTYPE=image/png:https://fromvictoryroad.com/wp-content/uploads/2019/12/Pleasure-in-Pink-sm.png
END:VEVENT
BEGIN:VEVENT
DTSTART;VALUE=DATE:20200106
DTEND;VALUE=DATE:20200306
DTSTAMP:20260423T093031
CREATED:20200120T151531Z
LAST-MODIFIED:20200120T151531Z
UID:14248-1578268800-1583452799@fromvictoryroad.com
SUMMARY:Featured Artist at Derby Library
DESCRIPTION:
URL:https://fromvictoryroad.com/event/featured-artist-at-derby-library/
LOCATION:Derby Library\, 1600 E\, Walnut Grove Rd\, Derby\, KS\, 67037\, United States
CATEGORIES:Featured Artist
ATTACH;FMTTYPE=image/jpeg:https://fromvictoryroad.com/wp-content/uploads/2020/01/Fox-Trot-sm.jpg
END:VEVENT
BEGIN:VEVENT
DTSTART;TZID=UTC:20200123T183000
DTEND;TZID=UTC:20200123T193000
DTSTAMP:20260423T093031
CREATED:20200120T151741Z
LAST-MODIFIED:20200120T151741Z
UID:14252-1579804200-1579807800@fromvictoryroad.com
SUMMARY:Artist's Reception
DESCRIPTION:
URL:https://fromvictoryroad.com/event/artists-reception/
LOCATION:Derby Library\, 1600 E\, Walnut Grove Rd\, Derby\, KS\, 67037\, United States
CATEGORIES:Featured Artist
ATTACH;FMTTYPE=image/jpeg:https://fromvictoryroad.com/wp-content/uploads/2020/01/Busy-Bodies-sm.jpg
END:VEVENT
BEGIN:VEVENT
DTSTART;TZID=UTC:20200125T190000
DTEND;TZID=UTC:20200125T210000
DTSTAMP:20260423T093031
CREATED:20200120T152123Z
LAST-MODIFIED:20200120T152157Z
UID:14254-1579978800-1579986000@fromvictoryroad.com
SUMMARY:Kansas Through the Eyes of the Artist reception
DESCRIPTION:
URL:https://fromvictoryroad.com/event/kansas-through-the-eyes-of-the-artist-reception/
LOCATION:Carriage Factory Art Gallery\, 128 E. 6th St\, Newton\, KS\, 67114\, United States
CATEGORIES:artist reception
ATTACH;FMTTYPE=image/png:https://fromvictoryroad.com/wp-content/uploads/2019/11/Prairie-Color-sm.png
ORGANIZER;CN="Carriage Factory Gallery":MAILTO:http://carriagefactoryartgallery.com/contact/
END:VEVENT
BEGIN:VEVENT
DTSTART;TZID=UTC:20210616T090000
DTEND;TZID=UTC:20210619T160000
DTSTAMP:20260423T093031
CREATED:20210615T224022Z
LAST-MODIFIED:20210615T224022Z
UID:15238-1623834000-1624118400@fromvictoryroad.com
SUMMARY:Shangri La Travel Journal Workshop
DESCRIPTION:
URL:https://fromvictoryroad.com/event/shangri-la-travel-journal-workshop/
LOCATION:Victory Road\, KS\, United States
CATEGORIES:Workshops
ATTACH;FMTTYPE=image/png:https://fromvictoryroad.com/wp-content/uploads/2020/10/Shangri-La-adv-e1603373276412.png
END:VEVENT
BEGIN:VEVENT
DTSTART;VALUE=DATE:20210621
DTEND;VALUE=DATE:20210626
DTSTAMP:20260423T093031
CREATED:20210615T224251Z
LAST-MODIFIED:20210615T224251Z
UID:15241-1624233600-1624665599@fromvictoryroad.com
SUMMARY:Artist in Residence at the Red Barn Studio
DESCRIPTION:
URL:https://fromvictoryroad.com/event/artist-in-residence-at-the-red-barn-studio-4/
LOCATION:The Red Barn Studio\, 212 S. Main\,\, Lindsborg\, KS\, 67456\, United States
CATEGORIES:Featured Artist
ATTACH;FMTTYPE=image/jpeg:https://fromvictoryroad.com/wp-content/uploads/2019/06/Red-Barn-Studio.jpg
END:VEVENT
BEGIN:VEVENT
DTSTART;VALUE=DATE:20210702
DTEND;VALUE=DATE:20210705
DTSTAMP:20260423T093031
CREATED:20210615T224609Z
LAST-MODIFIED:20210615T224627Z
UID:15244-1625184000-1625443199@fromvictoryroad.com
SUMMARY:Whitefish Arts Festival
DESCRIPTION:
URL:https://fromvictoryroad.com/event/whitefish-arts-festival/
CATEGORIES:Art Show
ATTACH;FMTTYPE=image/jpeg:https://fromvictoryroad.com/wp-content/uploads/2021/06/whitefish.jpeg
END:VEVENT
BEGIN:VEVENT
DTSTART;VALUE=DATE:20210710
DTEND;VALUE=DATE:20210712
DTSTAMP:20260423T093031
CREATED:20210615T224806Z
LAST-MODIFIED:20210615T224806Z
UID:15247-1625875200-1626047999@fromvictoryroad.com
SUMMARY:Foothills Fine Arts Festival
DESCRIPTION:
URL:https://fromvictoryroad.com/event/foothills-fine-arts-festival/
CATEGORIES:Art Show
ATTACH;FMTTYPE=image/jpeg:https://fromvictoryroad.com/wp-content/uploads/2019/09/booth-shot-2019.jpg
END:VEVENT
BEGIN:VEVENT
DTSTART;TZID=UTC:20210717T090000
DTEND;TZID=UTC:20210717T160000
DTSTAMP:20260423T093031
CREATED:20210615T225141Z
LAST-MODIFIED:20210615T225215Z
UID:15249-1626512400-1626537600@fromvictoryroad.com
SUMMARY:Create Your Own Workshop
DESCRIPTION:
URL:https://fromvictoryroad.com/event/create-your-own-workshop/
LOCATION:Victory Road\, KS\, United States
CATEGORIES:Workshops
ATTACH;FMTTYPE=image/jpeg:https://fromvictoryroad.com/wp-content/uploads/2021/06/lets-create-together-copy.jpg
END:VEVENT
BEGIN:VEVENT
DTSTART;VALUE=DATE:20210730
DTEND;VALUE=DATE:20210802
DTSTAMP:20260423T093031
CREATED:20210615T225508Z
LAST-MODIFIED:20210615T225645Z
UID:15252-1627603200-1627862399@fromvictoryroad.com
SUMMARY:Loring Park Art Festival
DESCRIPTION:Loring Park Poster
URL:https://fromvictoryroad.com/event/loring-park-art-festival/
CATEGORIES:Art Show
END:VEVENT
BEGIN:VEVENT
DTSTART;VALUE=DATE:20210813
DTEND;VALUE=DATE:20210816
DTSTAMP:20260423T093031
CREATED:20210615T225834Z
LAST-MODIFIED:20210615T225834Z
UID:15255-1628812800-1629071999@fromvictoryroad.com
SUMMARY:Ridgeway Rendevous
DESCRIPTION:
URL:https://fromvictoryroad.com/event/ridgeway-rendevous/
CATEGORIES:Art Show
END:VEVENT
BEGIN:VEVENT
DTSTART;TZID=UTC:20210828T090000
DTEND;TZID=UTC:20210828T160000
DTSTAMP:20260423T093031
CREATED:20210615T230040Z
LAST-MODIFIED:20210615T230040Z
UID:15257-1630141200-1630166400@fromvictoryroad.com
SUMMARY:Citra Solv Workshop
DESCRIPTION:
URL:https://fromvictoryroad.com/event/citra-solv-workshop-2/
CATEGORIES:Workshops
ATTACH;FMTTYPE=image/jpeg:https://fromvictoryroad.com/wp-content/uploads/2017/05/citra-solv-pages.jpg
END:VEVENT
END:VCALENDAR