BEGIN:VCALENDAR
VERSION:2.0
PRODID:-//From Victory Road - ECPv6.15.20//NONSGML v1.0//EN
CALSCALE:GREGORIAN
METHOD:PUBLISH
X-ORIGINAL-URL:https://fromvictoryroad.com
X-WR-CALDESC:Events for From Victory Road
REFRESH-INTERVAL;VALUE=DURATION:PT1H
X-Robots-Tag:noindex
X-PUBLISHED-TTL:PT1H
BEGIN:VTIMEZONE
TZID:UTC
BEGIN:STANDARD
TZOFFSETFROM:+0000
TZOFFSETTO:+0000
TZNAME:UTC
DTSTART:20180101T000000
END:STANDARD
END:VTIMEZONE
BEGIN:VEVENT
DTSTART;VALUE=DATE:20190611
DTEND;VALUE=DATE:20190617
DTSTAMP:20260423T112108
CREATED:20190126T155806Z
LAST-MODIFIED:20190126T155806Z
UID:13353-1560211200-1560729599@fromvictoryroad.com
SUMMARY:Artist in Residence at the Red Barn Studio
DESCRIPTION:I am thrilled to be artist in residence once again at The Red Barn studio in Lindsborg\, home of the late artist Lester Raymer.  This year will be extra fun because I will be in residence with my daughter Abby\, who is a high school art teacher.  We will be working in some fiber art\, and I am also looking forward to spending some time art journaling.  We will also be holding a workshop while we are there\, as well as a reception\, demo\, and hands on project during the second Friday Maker’s Street! \nLindsborg is a fun and artsy little town\, so make a day of it when you come by to visit!
URL:https://fromvictoryroad.com/event/artist-in-residence-at-the-red-barn-studio-3/
LOCATION:The Red Barn Studio\, 212 S. Main\,\, Lindsborg\, KS\, 67456\, United States
CATEGORIES:Art Crawl,Featured Artist
ATTACH;FMTTYPE=image/jpeg:https://fromvictoryroad.com/wp-content/uploads/2017/04/Red-Barn-Studio.jpg
END:VEVENT
BEGIN:VEVENT
DTSTART;TZID=UTC:20190619T090000
DTEND;TZID=UTC:20190622T160000
DTSTAMP:20260423T112108
CREATED:20181228T170247Z
LAST-MODIFIED:20190126T150932Z
UID:13155-1560934800-1561219200@fromvictoryroad.com
SUMMARY:Four Day "Victory Journal" workshop
DESCRIPTION:  \n \nOne of my all time favorite workshops where we make our own journal\, AND fill the pages with 30 page spreads!  I include some of my favorite mixed media art journaling techniques in this workshop which will be held in my new sunroom/classroom with a countryside view. There are nearby bed and breakfast accomodations if you want to really make an getaway experience of it! \nSign up here!  Early bird discount until until June 1!  A lunch package is also available that will provide you with a catered lunch each of the four days! \n 
URL:https://fromvictoryroad.com/event/four-day-victory-journal-workshop/
LOCATION:KS\, United States
CATEGORIES:Workshops
ATTACH;FMTTYPE=image/jpeg:https://fromvictoryroad.com/wp-content/uploads/2018/12/cover.jpg
ORGANIZER;CN="Kayann Ausherman":MAILTO:victoryrd@hotmail.com
END:VEVENT
BEGIN:VEVENT
DTSTART;TZID=UTC:20190713T080000
DTEND;TZID=UTC:20190714T170000
DTSTAMP:20260423T112108
CREATED:20190703T215850Z
LAST-MODIFIED:20190703T215850Z
UID:13738-1563004800-1563123600@fromvictoryroad.com
SUMMARY:Foothills Fine Art Festival
DESCRIPTION:This two day art show takes place in Golden Colorado!  I will be taking lots of new pieces\, as well as prints\, cards\, and more!
URL:https://fromvictoryroad.com/event/foothills-fine-art-festival/
LOCATION:KS
CATEGORIES:Art Show
ATTACH;FMTTYPE=image/jpeg:https://fromvictoryroad.com/wp-content/uploads/2019/07/downtown-banner-e1562190962695.jpg
END:VEVENT
BEGIN:VEVENT
DTSTART;TZID=UTC:20190727T090000
DTEND;TZID=UTC:20190727T120000
DTSTAMP:20260423T112108
CREATED:20190319T190815Z
LAST-MODIFIED:20190426T220048Z
UID:13520-1564218000-1564228800@fromvictoryroad.com
SUMMARY:Think Ink Workshop
DESCRIPTION:Learn about the different types of ink and how each are used\, especially in mixed media artwork.  Learn about the difference between pigment and dye inks\, how to make your own alcohol inks and ways to use it\, how to use distress oxide inks\, using natural ingredients to make ink\, and much more! We will also look at surfaces for ink and the different look achieved with each\, as well as how to finish your project when you are done.
URL:https://fromvictoryroad.com/event/think-ink-workshop-2/
LOCATION:Victory Road\, KS\, United States
CATEGORIES:Workshops
ATTACH;FMTTYPE=image/jpeg:https://fromvictoryroad.com/wp-content/uploads/2018/05/think-ink-e1526909291442.jpg
ORGANIZER;CN="Kayann Ausherman":MAILTO:victoryrd@hotmail.com
END:VEVENT
BEGIN:VEVENT
DTSTART;TZID=UTC:20190727T130000
DTEND;TZID=UTC:20190727T160000
DTSTAMP:20260423T112108
CREATED:20190319T191149Z
LAST-MODIFIED:20190703T215225Z
UID:13522-1564232400-1564243200@fromvictoryroad.com
SUMMARY:Mixed Media on the Cheap
DESCRIPTION:Art supplies are expensive\, but this workshop will teach some inexpensive alternatives\, as well as formulas and recipes to make your creating more affordable. In the process we will create mixed media succulents (or object of your choice) on wood using some interesting and inexpensive supplies!
URL:https://fromvictoryroad.com/event/mixed-media-on-the-cheap-4/
LOCATION:Victory Road\, KS\, United States
CATEGORIES:Workshops
ATTACH;FMTTYPE=image/jpeg:https://fromvictoryroad.com/wp-content/uploads/2019/03/succulent-sm-copy.jpg
ORGANIZER;CN="Kayann Ausherman":MAILTO:victoryrd@hotmail.com
END:VEVENT
BEGIN:VEVENT
DTSTART;TZID=UTC:20190728T140000
DTEND;TZID=UTC:20190728T170000
DTSTAMP:20260423T112108
CREATED:20190427T100009Z
LAST-MODIFIED:20190426T220246Z
UID:13524-1564322400-1564333200@fromvictoryroad.com
SUMMARY:Bible Journaling Workshop
DESCRIPTION:All new projects for this Bible Journaling Workshop! \nThe Bible Journal \, or Faith Journaling\, craze has been around for a number of years now\, and seems here to stay for a bit! The combination of faith and creative outlet hits on the essence of who we are\, created in the image of the ultimate Creative Genius! We are coming to understand that those are not separate compartments of our life\, but actually work hand in hand\, each deepening and enriching the other.  As an artist\, every time I create it can’t help but tap into God’s creative Spirit dwelling in me. As Christian creatives\, it comes naturally to express our thoughts and meditations in multiple ways. We pray\, we sing\, we write and we make art!  Even in the secular world it is recognized that when we doodle as we listen or think on something we retain 39% more of what we heard\, just by engaging more of our senses! \nCome learn tips and techniques for art/faith journaling in your Bible or journal while working on a new set of page projects!
URL:https://fromvictoryroad.com/event/bible-journaling-workshop-2/
LOCATION:Victory Road\, KS\, United States
CATEGORIES:Workshops
ATTACH;FMTTYPE=image/jpeg:https://fromvictoryroad.com/wp-content/uploads/2019/01/outdoor-lap-e1553020601273.jpg
ORGANIZER;CN="Kayann Ausherman":MAILTO:victoryrd@hotmail.com
END:VEVENT
BEGIN:VEVENT
DTSTART;TZID=UTC:20190831T090000
DTEND;TZID=UTC:20190831T120000
DTSTAMP:20260423T112108
CREATED:20190805T221053Z
LAST-MODIFIED:20190806T003551Z
UID:13789-1567242000-1567252800@fromvictoryroad.com
SUMMARY:Marbled Paper Workshop
DESCRIPTION:Learn easy methods of marbling paper that don’t require expensive materials\, or complex techniques.  Register by August 17 for an early bird discount! \nCome to the afternoon workshop to use your papers in Cut Paper Collage.
URL:https://fromvictoryroad.com/event/marbled-paper-workshop/
LOCATION:Victory Road\, KS\, United States
CATEGORIES:Workshops
ATTACH;FMTTYPE=image/jpeg:https://fromvictoryroad.com/wp-content/uploads/2019/08/marbled-paper-3569927_640.jpg
ORGANIZER;CN="Kayann Ausherman":MAILTO:victoryrd@hotmail.com
END:VEVENT
BEGIN:VEVENT
DTSTART;TZID=UTC:20190831T130000
DTEND;TZID=UTC:20190831T160000
DTSTAMP:20260423T112108
CREATED:20190806T004054Z
LAST-MODIFIED:20190806T004054Z
UID:13797-1567256400-1567267200@fromvictoryroad.com
SUMMARY:Cut Paper Collage
DESCRIPTION:This creative paper cutting workshop will have you creating collages with more ease than you would think! We will check out the work of many accomplished collage artists\, then make our own art pieces to take home. Register by August 17 for the early bird discount! \nIf you are attending the morning paper marbling workshop\, this will be a perfect place to use some of your lovely papers! \nSaturday\, August 31\n1-4pm\non Victory Road
URL:https://fromvictoryroad.com/event/cut-paper-collage/
LOCATION:Victory Road\, KS\, United States
CATEGORIES:Workshops
ATTACH;FMTTYPE=image/jpeg:https://fromvictoryroad.com/wp-content/uploads/2019/08/Abundance-sm.jpg
ORGANIZER;CN="Kayann Ausherman":MAILTO:victoryrd@hotmail.com
END:VEVENT
BEGIN:VEVENT
DTSTART;TZID=UTC:20190906T170000
DTEND;TZID=UTC:20190906T213000
DTSTAMP:20260423T112108
CREATED:20190806T013048Z
LAST-MODIFIED:20190806T013244Z
UID:13814-1567789200-1567805400@fromvictoryroad.com
SUMMARY:First Friday
DESCRIPTION:Help Wichita transition to a First Friday Artwalk!
URL:https://fromvictoryroad.com/event/first-friday/
LOCATION:KS
CATEGORIES:Art Crawl
ATTACH;FMTTYPE=image/jpeg:https://fromvictoryroad.com/wp-content/uploads/2019/02/Gallery-XII-2.jpg
END:VEVENT
BEGIN:VEVENT
DTSTART;TZID=UTC:20190909T070000
DTEND;TZID=UTC:20190909T210000
DTSTAMP:20260423T112108
CREATED:20190902T184333Z
LAST-MODIFIED:20190902T184614Z
UID:13835-1568012400-1568062800@fromvictoryroad.com
SUMMARY:Private Workshop - LaCadena Club
DESCRIPTION:
URL:https://fromvictoryroad.com/event/private-workshop-lacadena-club/
LOCATION:KS
CATEGORIES:Workshops
END:VEVENT
BEGIN:VEVENT
DTSTART;TZID=UTC:20190914T090000
DTEND;TZID=UTC:20190914T120000
DTSTAMP:20260423T112108
CREATED:20190806T005109Z
LAST-MODIFIED:20190806T005109Z
UID:13800-1568451600-1568462400@fromvictoryroad.com
SUMMARY:Fingerpainted Flowers
DESCRIPTION:Get into art with a class on painting drippy flowers with fingerpaint taught by Kayann Ausherman\nfrom 9am-noon Sept. 14. RSVP by Sept. 7. $45 per student; all supplies included.
URL:https://fromvictoryroad.com/event/fingerpainted-flowers/
LOCATION:Carriage Factory Art Gallery\, 128 E. 6th St\, Newton\, KS\, 67114\, United States
CATEGORIES:Workshops
ATTACH;FMTTYPE=image/jpeg:https://fromvictoryroad.com/wp-content/uploads/2019/08/floral-group.jpg
ORGANIZER;CN="Carriage Factory Gallery":MAILTO:http://carriagefactoryartgallery.com/contact/
END:VEVENT
BEGIN:VEVENT
DTSTART;TZID=UTC:20190914T130000
DTEND;TZID=UTC:20190914T160000
DTSTAMP:20260423T112108
CREATED:20190806T005946Z
LAST-MODIFIED:20190806T005946Z
UID:13804-1568466000-1568476800@fromvictoryroad.com
SUMMARY:Citra Solv Collage Workshop
DESCRIPTION:September 14 @ 1:00 pm – 4:00 pm\nCitra Solv Collage Class with Kayann Ausherman – SOLD OUT\nPut pieces together to create something new in a class taught by Kayann Ausherman from 1-4pm Sept. 14. RSVP by Sept. 7. $40 per student; all supplies included. \nSOLD OUT
URL:https://fromvictoryroad.com/event/citra-solv-collage-workshop/
LOCATION:Carriage Factory Art Gallery\, 128 E. 6th St\, Newton\, KS\, 67114\, United States
CATEGORIES:Workshops
ATTACH;FMTTYPE=image/jpeg:https://fromvictoryroad.com/wp-content/uploads/2019/08/Threes-a-Crowd-sm-copy-e1565053104336.jpg
ORGANIZER;CN="Carriage Factory Gallery":MAILTO:http://carriagefactoryartgallery.com/contact/
END:VEVENT
BEGIN:VEVENT
DTSTART;TZID=UTC:20190921T090000
DTEND;TZID=UTC:20190921T120000
DTSTAMP:20260423T112108
CREATED:20190806T011252Z
LAST-MODIFIED:20190806T011915Z
UID:13807-1569056400-1569067200@fromvictoryroad.com
SUMMARY:Eco Dye Workshop
DESCRIPTION:Learn the basics of using natural dyes on papers and fabrics.  We will also make dye bundles to take home and use.
URL:https://fromvictoryroad.com/event/eco-dye-workshop/
LOCATION:Victory Road\, KS\, United States
CATEGORIES:Workshops
ATTACH;FMTTYPE=image/jpeg:https://fromvictoryroad.com/wp-content/uploads/2018/10/Natural-Dyes-1.jpg
ORGANIZER;CN="Kayann Ausherman":MAILTO:victoryrd@hotmail.com
END:VEVENT
BEGIN:VEVENT
DTSTART;TZID=UTC:20190921T130000
DTEND;TZID=UTC:20190921T160000
DTSTAMP:20260423T112108
CREATED:20190806T012804Z
LAST-MODIFIED:20190806T012804Z
UID:13812-1569070800-1569081600@fromvictoryroad.com
SUMMARY:Little Book of Colors Workshop
DESCRIPTION:Use naturally dyed papers and fabrics to make a beautiful little book of colors. Some of the techniques include: simple hand stitching\, using soy and beeswax\, and incorporating items from nature.
URL:https://fromvictoryroad.com/event/little-book-of-colors-workshop/
LOCATION:Victory Road\, KS\, United States
CATEGORIES:Workshops
ATTACH;FMTTYPE=image/jpeg:https://fromvictoryroad.com/wp-content/uploads/2017/04/Color-Book-copy.jpg
ORGANIZER;CN="Kayann Ausherman":MAILTO:victoryrd@hotmail.com
END:VEVENT
BEGIN:VEVENT
DTSTART;TZID=UTC:20190928T100000
DTEND;TZID=UTC:20190928T170000
DTSTAMP:20260423T112108
CREATED:20190902T182729Z
LAST-MODIFIED:20190902T185144Z
UID:13830-1569664800-1569690000@fromvictoryroad.com
SUMMARY:Aaron Douglas Art Fair in Topeka
DESCRIPTION:I am so pleased to be accepted to this Topeka Art Fair!  The Fair was created to provide a one-day classic art fair environment to showcase diverse and emerging artists\, to celebrate community and to continue the legacy of world-renowned Topeka-born artist Aaron Douglas.
URL:https://fromvictoryroad.com/event/aaron-douglas-art-fair-in-topeka/
LOCATION:KS
CATEGORIES:Art Show
ATTACH;FMTTYPE=image/jpeg:https://fromvictoryroad.com/wp-content/uploads/2019/09/aaron-douglas-art-fair-2019.jpg
END:VEVENT
BEGIN:VEVENT
DTSTART;TZID=UTC:20191004T170000
DTEND;TZID=UTC:20191004T213000
DTSTAMP:20260423T112108
CREATED:20190902T190434Z
LAST-MODIFIED:20190902T190507Z
UID:13837-1570208400-1570224600@fromvictoryroad.com
SUMMARY:Wichita's First Friday Art Crawl
DESCRIPTION:Enjoy Wichita’s First Friday Art Crawl!  My art can be found at Gallery XII.
URL:https://fromvictoryroad.com/event/wichitas-first-friday-art-crawl/
LOCATION:KS
CATEGORIES:Art Crawl
ATTACH;FMTTYPE=image/jpeg:https://fromvictoryroad.com/wp-content/uploads/2019/02/Gallery-XII-2.jpg
END:VEVENT
BEGIN:VEVENT
DTSTART;TZID=UTC:20191005T090000
DTEND;TZID=UTC:20191005T120000
DTSTAMP:20260423T112108
CREATED:20190902T191925Z
LAST-MODIFIED:20190902T191925Z
UID:13839-1570266000-1570276800@fromvictoryroad.com
SUMMARY:Painted Messenger Bag Workshop
DESCRIPTION:Learn mediums and techniques for painting on fabric while painting the panels for your very own messenger bag that will be sewn by a seamstress and returned to you all in 6 weeks. Everything you need will be provided!
URL:https://fromvictoryroad.com/event/painted-messenger-bag-workshop/
LOCATION:Victory Road\, KS\, United States
CATEGORIES:Workshops
ATTACH;FMTTYPE=image/jpeg:https://fromvictoryroad.com/wp-content/uploads/2019/08/e1-e1565055770573.jpg
ORGANIZER;CN="Kayann Ausherman":MAILTO:victoryrd@hotmail.com
END:VEVENT
BEGIN:VEVENT
DTSTART;TZID=UTC:20191005T130000
DTEND;TZID=UTC:20191005T160000
DTSTAMP:20260423T112108
CREATED:20190902T214158Z
LAST-MODIFIED:20190902T223713Z
UID:13841-1570280400-1570291200@fromvictoryroad.com
SUMMARY:String Art
DESCRIPTION:Make your own popular string art project!  Bring your own hammer and create your choice of Kansas themed nail and string art.  Everything else will be provided!
URL:https://fromvictoryroad.com/event/string-art/
LOCATION:Victory Road\, KS\, United States
CATEGORIES:Workshops
ATTACH;FMTTYPE=image/jpeg:https://fromvictoryroad.com/wp-content/uploads/2019/09/nail-art-e1567452677847.jpg
ORGANIZER;CN="Kayann Ausherman":MAILTO:victoryrd@hotmail.com
END:VEVENT
BEGIN:VEVENT
DTSTART;TZID=UTC:20191006T140000
DTEND;TZID=UTC:20191006T170000
DTSTAMP:20260423T112108
CREATED:20190805T210007Z
LAST-MODIFIED:20190902T223149Z
UID:13782-1570370400-1570381200@fromvictoryroad.com
SUMMARY:Bible Journal Workshop
DESCRIPTION:
URL:https://fromvictoryroad.com/event/bible-journal-workshop/
LOCATION:Victory Road\, KS\, United States
CATEGORIES:Workshops
ATTACH;FMTTYPE=image/jpeg:https://fromvictoryroad.com/wp-content/uploads/2019/09/example-5-copy-e1567461848633.jpg
ORGANIZER;CN="Kayann Ausherman":MAILTO:victoryrd@hotmail.com
END:VEVENT
BEGIN:VEVENT
DTSTART;TZID=UTC:20191010T180000
DTEND;TZID=UTC:20191010T210000
DTSTAMP:20260423T112108
CREATED:20190902T224937Z
LAST-MODIFIED:20190903T131945Z
UID:13849-1570730400-1570741200@fromvictoryroad.com
SUMMARY:Think Ink
DESCRIPTION:Learn all the ins and outs of inks!  In this hands on workshop we will cover differences between dyes and pigments\, how to make your own alcohol inks\, magical effects with distress oxide inks\, and more!  While trying out a number of inks we will also create an frameable ink sampler.  All supplies will be provided.  Discount for DNC members available when purchasing.
URL:https://fromvictoryroad.com/event/think-ink/
LOCATION:Dillon Nature Center\, 3002 E. 30th Avenue\, Hutchinson\, KS\, 67502\, United States
CATEGORIES:Workshops
ATTACH;FMTTYPE=image/jpeg:https://fromvictoryroad.com/wp-content/uploads/2018/05/think-ink-e1526909291442.jpg
END:VEVENT
BEGIN:VEVENT
DTSTART;VALUE=DATE:20191011
DTEND;VALUE=DATE:20191014
DTSTAMP:20260423T112108
CREATED:20190903T132623Z
LAST-MODIFIED:20190903T132623Z
UID:13851-1570752000-1571011199@fromvictoryroad.com
SUMMARY:Russell's Original Art Review (ROAR)
DESCRIPTION:This is the 51st anniversary of this Kansas Art Show and it is worth the trip to Russel Kansas!  I hope to have a piece or two accepted into the show… but it is a jurried event\, so we will see!  In any case\, take a nice little road trip and visit the show!
URL:https://fromvictoryroad.com/event/russells-original-art-review-roar/
LOCATION:KS
CATEGORIES:Art Show
END:VEVENT
BEGIN:VEVENT
DTSTART;TZID=UTC:20191019T090000
DTEND;TZID=UTC:20191019T160000
DTSTAMP:20260423T112108
CREATED:20190903T133532Z
LAST-MODIFIED:20190903T133652Z
UID:13853-1571475600-1571500800@fromvictoryroad.com
SUMMARY:Citra Solv Workshop
DESCRIPTION:This workshop combines both basic and advanced Citra Solv techniques into a one day workshop hosted by the McPherson Art Center.
URL:https://fromvictoryroad.com/event/citra-solv-workshop/
LOCATION:McPherson Art Center
CATEGORIES:Workshops
ATTACH;FMTTYPE=image/jpeg:https://fromvictoryroad.com/wp-content/uploads/2019/07/Womens-March-sm.jpg
END:VEVENT
BEGIN:VEVENT
DTSTART;TZID=UTC:20191109T090000
DTEND;TZID=UTC:20191109T120000
DTSTAMP:20260423T112108
CREATED:20190903T141351Z
LAST-MODIFIED:20190903T141351Z
UID:13860-1573290000-1573300800@fromvictoryroad.com
SUMMARY:Fiber Art Prayer Amulet
DESCRIPTION:Create lovely little masterpieces of love and care! These little amulets are made from fabrics… many hand dyed options available\, and beads and other embellishments\, all lovingly slow stitched with prayers and well wishes. Everything you need is provided\, but if you have any meaningful little bits of lace\, broken jewelry\, beads\, etc. that you want to include you are welcome to bring them. \nRegister at least two weeks ahead and get the early bird discount!
URL:https://fromvictoryroad.com/event/fiber-art-prayer-amulet/
LOCATION:Victory Road\, KS\, United States
CATEGORIES:Workshops
ATTACH;FMTTYPE=image/jpeg:https://fromvictoryroad.com/wp-content/uploads/2019/09/Fiber-Art-Prayer-Amulets-e1567519326504.jpg
ORGANIZER;CN="Kayann Ausherman":MAILTO:victoryrd@hotmail.com
END:VEVENT
BEGIN:VEVENT
DTSTART;TZID=UTC:20191121T160000
DTEND;TZID=UTC:20191121T190000
DTSTAMP:20260423T112108
CREATED:20191110T192214Z
LAST-MODIFIED:20191110T192214Z
UID:14036-1574352000-1574362800@fromvictoryroad.com
SUMMARY:Arlington Art Market
DESCRIPTION:Enjoy small town shopping on Nov. 21\, 4-7pm at 306 W Main St\, Arlington\, Kansas 67514 \n 
URL:https://fromvictoryroad.com/event/arlington-art-market/
LOCATION:Arlington Farm and Art Market\, 306 W Main St\, Arlington\, Kansas\, 67514\, United States
CATEGORIES:Craft Shows
END:VEVENT
BEGIN:VEVENT
DTSTART;TZID=UTC:20191123T010000
DTEND;TZID=UTC:20191123T160000
DTSTAMP:20260423T112108
CREATED:20190903T144246Z
LAST-MODIFIED:20190903T144810Z
UID:13866-1574470800-1574524800@fromvictoryroad.com
SUMMARY:Hutchinson Art Center Holiday Show
DESCRIPTION:Come check out an expanded gift shop event special for the holidays with many artists bringing in extra goodies for your shopping and gift buying pleasure!  I will have many great handmade items perfectly priced for gifting.  A portion of the purchases go directly to the Art Center to help keep art alive and well in our community!
URL:https://fromvictoryroad.com/event/hutchinson-art-center-holiday-show/
LOCATION:Hutchinson Art Center\, Hutchinson\, KS\, United States
CATEGORIES:Art Show
ATTACH;FMTTYPE=image/jpeg:https://fromvictoryroad.com/wp-content/uploads/2018/12/mounted-prints.jpg
END:VEVENT
BEGIN:VEVENT
DTSTART;VALUE=DATE:20191130
DTEND;VALUE=DATE:20191229
DTSTAMP:20260423T112108
CREATED:20191027T215610Z
LAST-MODIFIED:20191027T215610Z
UID:14000-1575072000-1577577599@fromvictoryroad.com
SUMMARY:Featured Artist at Larksfield Place
DESCRIPTION:le\,
URL:https://fromvictoryroad.com/event/featured-artist-at-larksfield-place-2/
LOCATION:Larksfield Place\, 2727 N Rock Rd\, Wichita\, KS\, 67226\, United States
CATEGORIES:Featured Artist
END:VEVENT
BEGIN:VEVENT
DTSTART;VALUE=DATE:20191130
DTEND;VALUE=DATE:20200204
DTSTAMP:20260423T112108
CREATED:20200120T151010Z
LAST-MODIFIED:20200120T151010Z
UID:14246-1575072000-1580774399@fromvictoryroad.com
SUMMARY:Featured Artist at Larksfield Place
DESCRIPTION:
URL:https://fromvictoryroad.com/event/featured-artist-at-larksfield-place-3/
LOCATION:Larksfield Place\, 2727 N Rock Rd\, Wichita\, KS\, 67226\, United States
CATEGORIES:Featured Artist
ATTACH;FMTTYPE=image/png:https://fromvictoryroad.com/wp-content/uploads/2019/12/Pleasure-in-Pink-sm.png
END:VEVENT
BEGIN:VEVENT
DTSTART;TZID=UTC:20191207T090000
DTEND;TZID=UTC:20191207T120000
DTSTAMP:20260423T112108
CREATED:20190918T161427Z
LAST-MODIFIED:20190918T161427Z
UID:13914-1575709200-1575720000@fromvictoryroad.com
SUMMARY:A Touch of Whimsy
DESCRIPTION:There is a part deep within us that enjoys something whimsical… something that steps beyond reality to the place of play and dreams. It may be boldly whimsical\, or a bit more subtle\, but its presence in any degree transforms our art into something that brings a smile to those who view it.  According to the dictionary\, whimsy is  the quality of being slightly odd or playfully humorous\, especially in an endearing way. Just a touch of whimsy can help express things in our art that reality just can’t!  It evokes an emotion… usually on the lighthearted\, happy side.  Whimsy seems like an intangible quality… but is it really?  In this workshop we will practice four practical techniques to create a finished whimsical piece of art or art journal page. \n 
URL:https://fromvictoryroad.com/event/a-touch-of-whimsy/
LOCATION:Victory Road\, KS\, United States
CATEGORIES:Workshops
ATTACH;FMTTYPE=image/jpeg:https://fromvictoryroad.com/wp-content/uploads/2016/10/touch-of-whimsy-example.jpg
ORGANIZER;CN="Kayann Ausherman":MAILTO:victoryrd@hotmail.com
END:VEVENT
BEGIN:VEVENT
DTSTART;VALUE=DATE:20200106
DTEND;VALUE=DATE:20200306
DTSTAMP:20260423T112108
CREATED:20200120T151531Z
LAST-MODIFIED:20200120T151531Z
UID:14248-1578268800-1583452799@fromvictoryroad.com
SUMMARY:Featured Artist at Derby Library
DESCRIPTION:
URL:https://fromvictoryroad.com/event/featured-artist-at-derby-library/
LOCATION:Derby Library\, 1600 E\, Walnut Grove Rd\, Derby\, KS\, 67037\, United States
CATEGORIES:Featured Artist
ATTACH;FMTTYPE=image/jpeg:https://fromvictoryroad.com/wp-content/uploads/2020/01/Fox-Trot-sm.jpg
END:VEVENT
BEGIN:VEVENT
DTSTART;TZID=UTC:20200123T183000
DTEND;TZID=UTC:20200123T193000
DTSTAMP:20260423T112108
CREATED:20200120T151741Z
LAST-MODIFIED:20200120T151741Z
UID:14252-1579804200-1579807800@fromvictoryroad.com
SUMMARY:Artist's Reception
DESCRIPTION:
URL:https://fromvictoryroad.com/event/artists-reception/
LOCATION:Derby Library\, 1600 E\, Walnut Grove Rd\, Derby\, KS\, 67037\, United States
CATEGORIES:Featured Artist
ATTACH;FMTTYPE=image/jpeg:https://fromvictoryroad.com/wp-content/uploads/2020/01/Busy-Bodies-sm.jpg
END:VEVENT
END:VCALENDAR