BEGIN:VCALENDAR
VERSION:2.0
PRODID:-//From Victory Road - ECPv6.15.20//NONSGML v1.0//EN
CALSCALE:GREGORIAN
METHOD:PUBLISH
X-WR-CALNAME:From Victory Road
X-ORIGINAL-URL:https://fromvictoryroad.com
X-WR-CALDESC:Events for From Victory Road
REFRESH-INTERVAL;VALUE=DURATION:PT1H
X-Robots-Tag:noindex
X-PUBLISHED-TTL:PT1H
BEGIN:VTIMEZONE
TZID:UTC
BEGIN:STANDARD
TZOFFSETFROM:+0000
TZOFFSETTO:+0000
TZNAME:UTC
DTSTART:20160101T000000
END:STANDARD
END:VTIMEZONE
BEGIN:VEVENT
DTSTART;TZID=UTC:20180317T090000
DTEND;TZID=UTC:20180317T120000
DTSTAMP:20260423T150415
CREATED:20171208T153750Z
LAST-MODIFIED:20171208T153750Z
UID:12040-1521277200-1521288000@fromvictoryroad.com
SUMMARY:Color Theory
DESCRIPTION:  \nLearn color theory and how to mix colors while creating a colorful\, ready to frame mandala!
URL:https://fromvictoryroad.com/event/color-theory/
LOCATION:Tessera Fine Art Gallery\, 412 E. Douglas\, Suite C\, Wichita\, KS\, 67202\, United States
CATEGORIES:Workshops
ATTACH;FMTTYPE=image/jpeg:https://fromvictoryroad.com/wp-content/uploads/2017/12/47674710_s.jpg
END:VEVENT
BEGIN:VEVENT
DTSTART;TZID=UTC:20180311T140000
DTEND;TZID=UTC:20180311T170000
DTSTAMP:20260423T150415
CREATED:20171208T152248Z
LAST-MODIFIED:20171208T152248Z
UID:12038-1520776800-1520787600@fromvictoryroad.com
SUMMARY:Watercolor in the Mix
DESCRIPTION:We will complete a watercolor sampler using watercolor based mixed media techniques.  New techniques and materials will be covered!
URL:https://fromvictoryroad.com/event/watercolor-in-the-mix/
LOCATION:Tessera Fine Art Gallery\, 412 E. Douglas\, Suite C\, Wichita\, KS\, 67202\, United States
CATEGORIES:Workshops
ATTACH;FMTTYPE=image/jpeg:https://fromvictoryroad.com/wp-content/uploads/2017/07/watercolor-wkshp.jpg
END:VEVENT
BEGIN:VEVENT
DTSTART;TZID=UTC:20180217T130000
DTEND;TZID=UTC:20180217T160000
DTSTAMP:20260423T150415
CREATED:20171208T151616Z
LAST-MODIFIED:20171208T151616Z
UID:12035-1518872400-1518883200@fromvictoryroad.com
SUMMARY:Wash Away
DESCRIPTION:In this workshop\, we will use waterproof india ink over tempera paint to create dramatic images.  Perfect to use with the buildings sketched in the morning perspectives class\, but can be used with just about any subject matter!
URL:https://fromvictoryroad.com/event/wash-away/
LOCATION:Tessera Fine Art Gallery\, 412 E. Douglas\, Suite C\, Wichita\, KS\, 67202\, United States
CATEGORIES:Workshops
ATTACH;FMTTYPE=image/jpeg:https://fromvictoryroad.com/wp-content/uploads/2017/12/graphicstock-cityscape-with-abstract-texturesillustration-painting_HFfjJkEo5g-copy-e1512745862708.jpg
END:VEVENT
BEGIN:VEVENT
DTSTART;TZID=UTC:20180217T090000
DTEND;TZID=UTC:20180217T120000
DTSTAMP:20260423T150415
CREATED:20171208T150554Z
LAST-MODIFIED:20171208T150554Z
UID:12032-1518858000-1518868800@fromvictoryroad.com
SUMMARY:A Matter of Perspective
DESCRIPTION:Learn how to sketch in one and two point perspective and create an urban scene that can be used as the basis of the afternoon workshop session\, or to develop a pen and ink sketch.
URL:https://fromvictoryroad.com/event/a-matter-of-perspective/
LOCATION:Tessera Fine Art Gallery\, 412 E. Douglas\, Suite C\, Wichita\, KS\, 67202\, United States
CATEGORIES:Workshops
ATTACH;FMTTYPE=image/jpeg:https://fromvictoryroad.com/wp-content/uploads/2017/12/37520874_s.jpg
END:VEVENT
BEGIN:VEVENT
DTSTART;TZID=UTC:20180208T180000
DTEND;TZID=UTC:20180208T210000
DTSTAMP:20260423T150415
CREATED:20171208T145141Z
LAST-MODIFIED:20171208T145141Z
UID:12030-1518112800-1518123600@fromvictoryroad.com
SUMMARY:Musical Easels
DESCRIPTION:Fun Introduction to mixed media techniques and fun for the experienced as well.  For the experienced it is a good exercise in working quickly\, and in letting go. Will complete a collaborative piece on 11 x 14 inch canvas board. You will keep the piece that you developed and finished in the last steps.
URL:https://fromvictoryroad.com/event/musical-easels/
LOCATION:Tessera Fine Art Gallery\, 412 E. Douglas\, Suite C\, Wichita\, KS\, 67202\, United States
CATEGORIES:Workshops
ATTACH;FMTTYPE=image/jpeg:https://fromvictoryroad.com/wp-content/uploads/2017/04/Jan-flyer-musical-easels-copy.jpg
END:VEVENT
BEGIN:VEVENT
DTSTART;TZID=UTC:20180206T180000
DTEND;TZID=UTC:20180206T210000
DTSTAMP:20260423T150415
CREATED:20171208T160135Z
LAST-MODIFIED:20171208T160135Z
UID:12047-1517940000-1517950800@fromvictoryroad.com
SUMMARY:Mixed Media Beetles
DESCRIPTION:Use encaustic techniques to create this mixed media beetle on a cradled wood panel. You could also opt to do a butterfly\, or othere subject of your choice.  We will use paint\, collage\, wax\, a paint stick\, shellac\, and torching in this project!
URL:https://fromvictoryroad.com/event/mixed-media-beetles/
LOCATION:Dillon Nature Center\, 3002 E. 30th Avenue\, Hutchinson\, KS\, 67502\, United States
CATEGORIES:Workshops
ATTACH;FMTTYPE=image/jpeg:https://fromvictoryroad.com/wp-content/uploads/2017/12/sm-beetle-1-copy.jpg
END:VEVENT
BEGIN:VEVENT
DTSTART;TZID=UTC:20180120T130000
DTEND;TZID=UTC:20180120T160000
DTSTAMP:20260423T150415
CREATED:20171208T144031Z
LAST-MODIFIED:20171208T144031Z
UID:12028-1516453200-1516464000@fromvictoryroad.com
SUMMARY:Junk Journal Mini
DESCRIPTION:Create a small hand bound junk journal from start to finish in this hands on workshop.  Choose from 5 x7\, 8 x 8\, or other small sized covers to make your chunky book.  Use papers painted in the morning session\, or ‘junk’ papers from my stash.  You will learn how to make signatures\, a binding stitch\, and more as you build your book!  All supplies provided! \n 
URL:https://fromvictoryroad.com/event/junk-journal-mini/
LOCATION:Tessera Fine Art Gallery\, 412 E. Douglas\, Suite C\, Wichita\, KS\, 67202\, United States
CATEGORIES:Workshops
ATTACH;FMTTYPE=image/jpeg:https://fromvictoryroad.com/wp-content/uploads/2017/08/img_0684-e1512743905295.jpg
END:VEVENT
BEGIN:VEVENT
DTSTART;TZID=UTC:20180120T090000
DTEND;TZID=UTC:20180120T120000
DTSTAMP:20260423T150415
CREATED:20171208T143004Z
LAST-MODIFIED:20171208T143004Z
UID:12025-1516438800-1516449600@fromvictoryroad.com
SUMMARY:Painted Papers
DESCRIPTION:Use a variety of techniques to create beautiful papers that can be bound into your journal in the afternoon workshop session\, or used for any paper crafting or collage.  There will be old and new techniqes to play with.  This is honestly one of the funnest ways to set aside the rest of life for a morning and have some art play!
URL:https://fromvictoryroad.com/event/painted-papers/
LOCATION:Tessera Fine Art Gallery\, 412 E. Douglas\, Suite C\, Wichita\, KS\, 67202\, United States
CATEGORIES:Workshops
ATTACH;FMTTYPE=image/jpeg:https://fromvictoryroad.com/wp-content/uploads/2017/12/printmaking-e1512743309856.jpg
END:VEVENT
BEGIN:VEVENT
DTSTART;TZID=UTC:20180114T140000
DTEND;TZID=UTC:20180114T170000
DTSTAMP:20260423T150415
CREATED:20171208T134635Z
LAST-MODIFIED:20171208T134635Z
UID:12021-1515938400-1515949200@fromvictoryroad.com
SUMMARY:Intro to Art Journaling
DESCRIPTION:What is art journaling\, why art journal\, and how to art journal.  Everything you need to know to get started on this stress busting and skill building activity! Start off the new year with art journaling!
URL:https://fromvictoryroad.com/event/intro-to-art-journaling/
LOCATION:Tessera Fine Art Gallery\, 412 E. Douglas\, Suite C\, Wichita\, KS\, 67202\, United States
CATEGORIES:Workshops
ATTACH;FMTTYPE=image/jpeg:https://fromvictoryroad.com/wp-content/uploads/2017/10/Creativity-page-e1507596170587.jpg
END:VEVENT
BEGIN:VEVENT
DTSTART;TZID=UTC:20171209T130000
DTEND;TZID=UTC:20171209T160000
DTSTAMP:20260423T150415
CREATED:20171208T161455Z
LAST-MODIFIED:20171208T161455Z
UID:12052-1512824400-1512835200@fromvictoryroad.com
SUMMARY:Painted Gift Wrap
DESCRIPTION:https://fromvictoryroad.com/wp-content/uploads/2017/12/File-Nov-16-5-36-39-PM.mp4
URL:https://fromvictoryroad.com/event/painted-gift-wrap/
LOCATION:Tessera Fine Art Gallery\, 412 E. Douglas\, Suite C\, Wichita\, KS\, 67202\, United States
CATEGORIES:Workshops
ATTACH;FMTTYPE=image/jpeg:https://fromvictoryroad.com/wp-content/uploads/2017/12/File-Nov-16-4-38-30-PM-e1512749628412.jpeg
END:VEVENT
BEGIN:VEVENT
DTSTART;VALUE=DATE:20171201
DTEND;VALUE=DATE:20180101
DTSTAMP:20260423T150415
CREATED:20171208T160600Z
LAST-MODIFIED:20171208T160600Z
UID:12050-1512086400-1514764799@fromvictoryroad.com
SUMMARY:Featured Artist at Bluebird Books
DESCRIPTION:My art will be displayed for sale at Bluebird Books through the month of December\, as well as cards\, prints\, journals\, handpainted ornaments\, and more!
URL:https://fromvictoryroad.com/event/featured-artist-at-bluebird-books-2/
LOCATION:Bluebird Books\, 2 S. Main\, Hutchinson\, KS\, 67501\, United States
CATEGORIES:Featured Artist
ATTACH;FMTTYPE=image/jpeg:https://fromvictoryroad.com/wp-content/uploads/2017/12/Two-in-Blue-wm.jpg
END:VEVENT
BEGIN:VEVENT
DTSTART;TZID=UTC:20170909T130000
DTEND;TZID=UTC:20170909T160000
DTSTAMP:20260423T150415
CREATED:20170825T203902Z
LAST-MODIFIED:20170825T203902Z
UID:11727-1504962000-1504972800@fromvictoryroad.com
SUMMARY:A Stitch in Time
DESCRIPTION:Learn to enrich your artwork with the use of stitches.  Techniques will be covered for stretched canvas\, wood panels\, art journals\, and more.  An 8 x 10 stretched canvas and an additional piece will be completed using high flow acrylics and embroidery floss. All supplies provided.
URL:https://fromvictoryroad.com/event/a-stitch-in-time/
LOCATION:KS
CATEGORIES:Workshops
ATTACH;FMTTYPE=image/jpeg:https://fromvictoryroad.com/wp-content/uploads/2017/08/IMG_0761-e1503693022670.jpg
END:VEVENT
BEGIN:VEVENT
DTSTART;TZID=UTC:20170909T090000
DTEND;TZID=UTC:20170909T120000
DTSTAMP:20260423T150415
CREATED:20170825T202822Z
LAST-MODIFIED:20170825T202822Z
UID:11722-1504947600-1504958400@fromvictoryroad.com
SUMMARY:Fabric in the Mix
DESCRIPTION:A hands on workshop on using fabric in your mixed media artwork.  All supplies are provided to complete a 8 x 10 canvas.
URL:https://fromvictoryroad.com/event/fabric-in-the-mix/
LOCATION:Tessera Fine Art Gallery\, 412 E. Douglas\, Suite C\, Wichita\, KS\, 67202\, United States
CATEGORIES:Workshops
ATTACH;FMTTYPE=image/jpeg:https://fromvictoryroad.com/wp-content/uploads/2017/08/IMG_0754-e1503692676491.jpg
END:VEVENT
BEGIN:VEVENT
DTSTART;TZID=UTC:20170907T180000
DTEND;TZID=UTC:20170907T210000
DTSTAMP:20260423T150415
CREATED:20170825T202114Z
LAST-MODIFIED:20170825T202114Z
UID:11719-1504807200-1504818000@fromvictoryroad.com
SUMMARY:Mixed Media on the Cheap
DESCRIPTION:We will use inexpensive alternatives to expensive art supplies to create an encaustic style beetle on a wood panel.  All supplies provided and you will have a completed project to take home!
URL:https://fromvictoryroad.com/event/mixed-media-on-the-cheap/
LOCATION:Tessera Fine Art Gallery\, 412 E. Douglas\, Suite C\, Wichita\, KS\, 67202\, United States
CATEGORIES:Workshops
ATTACH;FMTTYPE=image/jpeg:https://fromvictoryroad.com/wp-content/uploads/2017/08/IMG_0698.jpg
END:VEVENT
BEGIN:VEVENT
DTSTART;TZID=UTC:20170826T130000
DTEND;TZID=UTC:20170826T160000
DTSTAMP:20260423T150415
CREATED:20170410T010235Z
LAST-MODIFIED:20170410T010235Z
UID:11196-1503752400-1503763200@fromvictoryroad.com
SUMMARY:Citra Solv Workshop Part II
DESCRIPTION:In the second session of the Citra Solv workshop\, we will use the papers produced and techniques learned to create a mixed media masterpiece!  I will share how I make a Citra Solv background and then we will use Citra Solv papers to collage on top.
URL:https://fromvictoryroad.com/event/citra-solv-workshop-part-ii/
LOCATION:The Red Barn Studio\, 212 S. Main\,\, Lindsborg\, KS\, 67456\, United States
CATEGORIES:Workshops
ATTACH;FMTTYPE=image/jpeg:https://fromvictoryroad.com/wp-content/uploads/2017/04/Citra-Solv-project.jpg
END:VEVENT
BEGIN:VEVENT
DTSTART;TZID=UTC:20170826T090000
DTEND;TZID=UTC:20170826T120000
DTSTAMP:20260423T150415
CREATED:20170410T005828Z
LAST-MODIFIED:20170601T025208Z
UID:11192-1503738000-1503748800@fromvictoryroad.com
SUMMARY:Citra Solv Workshop Part I
DESCRIPTION:Citra Solv part 1 workshop will cover the techniques for altering National Geographic magazine pages with Citra Solv concentrated cleaner to make beautiful altered papers that can be used as collage papers in artwork. \n \nWe will also learn how to further manipulate our papers\, as well as learn how Citra Solv can be used in image transfer. \n   \nSee more about this class in the video trailer!
URL:https://fromvictoryroad.com/event/citra-solv-workshop-part-i/
LOCATION:The Red Barn Studio\, 212 S. Main\,\, Lindsborg\, KS\, 67456\, United States
ATTACH;FMTTYPE=image/jpeg:https://fromvictoryroad.com/wp-content/uploads/2017/04/2.jpg
END:VEVENT
BEGIN:VEVENT
DTSTART;TZID=UTC:20170815T000000
DTEND;TZID=UTC:20170815T000000
DTSTAMP:20260423T150415
CREATED:20170410T004931Z
LAST-MODIFIED:20170410T005052Z
UID:11186-1502755200-1502755200@fromvictoryroad.com
SUMMARY:Stamp Carving at The Red Barn Studio
DESCRIPTION:Hands on stamp carving workshop to learn basic stamp carving techniques and materials\, including two part stamps\, repeating stamps\, and more. Each participant will receive a kit of supplies to use and take home.
URL:https://fromvictoryroad.com/event/stamp-carving-at-the-red-barn-studio/
LOCATION:KS
CATEGORIES:Workshops
ATTACH;FMTTYPE=image/jpeg:https://fromvictoryroad.com/wp-content/uploads/2017/04/repeating.jpg
END:VEVENT
BEGIN:VEVENT
DTSTART;TZID=UTC:20170810T180000
DTEND;TZID=UTC:20170810T210000
DTSTAMP:20260423T150415
CREATED:20170409T220644Z
LAST-MODIFIED:20170409T220644Z
UID:11172-1502388000-1502398800@fromvictoryroad.com
SUMMARY:Judge the Book by its Cover Workshop
DESCRIPTION:Creating a dimensional assemblage on an old book cover
URL:https://fromvictoryroad.com/event/judge-the-book-by-its-cover-workshop/
LOCATION:Tessera Fine Art Gallery\, 412 E. Douglas\, Suite C\, Wichita\, KS\, 67202\, United States
CATEGORIES:Workshops
END:VEVENT
BEGIN:VEVENT
DTSTART;TZID=UTC:20170805T130000
DTEND;TZID=UTC:20170805T160000
DTSTAMP:20260423T150415
CREATED:20170409T221320Z
LAST-MODIFIED:20170409T221320Z
UID:11176-1501938000-1501948800@fromvictoryroad.com
SUMMARY:Accordian Fold Journal
DESCRIPTION:Complete a mini accordian fold journal with a little box to store it in using mixed media techniques.
URL:https://fromvictoryroad.com/event/accordian-fold-journal/
LOCATION:Tessera Fine Art Gallery\, 412 E. Douglas\, Suite C\, Wichita\, KS\, 67202\, United States
CATEGORIES:Workshops
END:VEVENT
BEGIN:VEVENT
DTSTART;TZID=UTC:20170805T090000
DTEND;TZID=UTC:20170805T120000
DTSTAMP:20260423T150415
CREATED:20170409T220942Z
LAST-MODIFIED:20170409T220942Z
UID:11174-1501923600-1501934400@fromvictoryroad.com
SUMMARY:Altered Children's Book Workshop
DESCRIPTION:How to turn a children’s book into a themed art journal.  Bring your own book\, or choose one of mine.
URL:https://fromvictoryroad.com/event/altered-childrens-book-workshop/
LOCATION:Tessera Fine Art Gallery\, 412 E. Douglas\, Suite C\, Wichita\, KS\, 67202\, United States
CATEGORIES:Workshops
END:VEVENT
BEGIN:VEVENT
DTSTART;VALUE=DATE:20170801
DTEND;VALUE=DATE:20171001
DTSTAMP:20260423T150415
CREATED:20170409T222742Z
LAST-MODIFIED:20170409T222742Z
UID:11178-1501545600-1506815999@fromvictoryroad.com
SUMMARY:Featured Artist at Larksfield Place
DESCRIPTION:
URL:https://fromvictoryroad.com/event/featured-artist-at-larksfield-place/
LOCATION:Larksfield Place\, 2727 N Rock Rd\, Wichita\, KS\, 67226\, United States
CATEGORIES:Featured Artist
ATTACH;FMTTYPE=image/jpeg:https://fromvictoryroad.com/wp-content/uploads/2016/02/artist-profile-pic.jpg
END:VEVENT
BEGIN:VEVENT
DTSTART;TZID=UTC:20170708T130000
DTEND;TZID=UTC:20170708T160000
DTSTAMP:20260423T150415
CREATED:20170409T215542Z
LAST-MODIFIED:20170409T215542Z
UID:11167-1499518800-1499529600@fromvictoryroad.com
SUMMARY:Negative Spaces Workshop
DESCRIPTION:Learn techniques of reverse painting\, mixed media style!  An 11 x 14 canvas board will be completed.
URL:https://fromvictoryroad.com/event/negative-spaces-workshop/
LOCATION:Tessera Fine Art Gallery\, 412 E. Douglas\, Suite C\, Wichita\, KS\, 67202\, United States
CATEGORIES:Workshops
ATTACH;FMTTYPE=image/jpeg:https://fromvictoryroad.com/wp-content/uploads/2017/04/example-watermark.jpg
END:VEVENT
BEGIN:VEVENT
DTSTART;TZID=UTC:20170708T090000
DTEND;TZID=UTC:20170708T120000
DTSTAMP:20260423T150415
CREATED:20170409T214648Z
LAST-MODIFIED:20170409T214648Z
UID:11164-1499504400-1499515200@fromvictoryroad.com
SUMMARY:Musical Easels Workshop
DESCRIPTION:This is a super fun way to do a mixed media canvas. At each step of the way you pass your piece to the next person to work on until the timer goes off again. By the end\, you end up with your own original piece and have everyone’s contribution. Very fun to see the direction these go!
URL:https://fromvictoryroad.com/event/musical-easels-workshop/
LOCATION:Tessera Fine Art Gallery\, 412 E. Douglas\, Suite C\, Wichita\, KS\, 67202\, United States
CATEGORIES:Workshops
ATTACH;FMTTYPE=image/jpeg:https://fromvictoryroad.com/wp-content/uploads/2017/04/Jan-flyer-musical-easels-copy.jpg
END:VEVENT
BEGIN:VEVENT
DTSTART;TZID=UTC:20170706T180000
DTEND;TZID=UTC:20170706T210000
DTSTAMP:20260423T150415
CREATED:20170409T213549Z
LAST-MODIFIED:20170409T213549Z
UID:11159-1499364000-1499374800@fromvictoryroad.com
SUMMARY:Watercolor in the Mix Workshop
DESCRIPTION:In this class a sampler will be completed using several watercolor based mixed media techniques.
URL:https://fromvictoryroad.com/event/watercolor-in-the-mix-workshop/
LOCATION:Tessera Fine Art Gallery\, 412 E. Douglas\, Suite C\, Wichita\, KS\, 67202\, United States
ATTACH;FMTTYPE=image/jpeg:https://fromvictoryroad.com/wp-content/uploads/2017/04/watercolor-wkshp.jpg
END:VEVENT
BEGIN:VEVENT
DTSTART;TZID=UTC:20170627T180000
DTEND;TZID=UTC:20170627T210000
DTSTAMP:20260423T150415
CREATED:20170601T142730Z
LAST-MODIFIED:20170601T143738Z
UID:11461-1498586400-1498597200@fromvictoryroad.com
SUMMARY:Paper Mosaic Workshop
DESCRIPTION:Paper mosaics achieve the same look of traditional mosaics\, but with the use of paper bits or shapes.  In this worksjhop\, participants will use an array of papers to create their own original ready-to-frame artwork.  A variety of techniques and design principles will be presented. All materials provided.
URL:https://fromvictoryroad.com/event/paper-mosaic-workshop/
LOCATION:Dillon Nature Center\, 3002 E. 30th Avenue\, Hutchinson\, KS\, 67502\, United States
CATEGORIES:Workshops
ATTACH;FMTTYPE=image/jpeg:https://fromvictoryroad.com/wp-content/uploads/2017/04/Pieces-of-Spring-wm-e1507215118238.jpg
END:VEVENT
BEGIN:VEVENT
DTSTART;TZID=UTC:20170626T180000
DTEND;TZID=UTC:20170626T210000
DTSTAMP:20260423T150415
CREATED:20170601T141631Z
LAST-MODIFIED:20170601T143408Z
UID:11459-1498500000-1498510800@fromvictoryroad.com
SUMMARY:Citra Solv Workshop at The White Peacock
DESCRIPTION:All materials are provided at this hands on workshop to make beautiful papers using Citra Solv concentrated cleaners on National Geographic magazine pages.  Learn the basic technique plus several alterations to manipulate the effect into gorgeous additions to your own mixed media artwork or craft projects.
URL:https://fromvictoryroad.com/event/citra-solv-workshop-at-the-white-peacock/
LOCATION:The White Peacock\, 124 S Main St\, Lindsborg\, KS\, 67456\, United States
CATEGORIES:Workshops
ATTACH;FMTTYPE=image/jpeg:https://fromvictoryroad.com/wp-content/uploads/2017/05/citra-solv-pages.jpg
END:VEVENT
BEGIN:VEVENT
DTSTART;TZID=UTC:20170617T130000
DTEND;TZID=UTC:20170617T160000
DTSTAMP:20260423T150415
CREATED:20170409T204211Z
LAST-MODIFIED:20170409T204338Z
UID:11142-1497704400-1497715200@fromvictoryroad.com
SUMMARY:Travel Journal Workshop
DESCRIPTION:Get ready for your next vacation\, or document your last\, art journal style!  The travel journal is a mix between a scrapbook\, sketchbook and art journal.  It is a great way to fully experience your travels\, and makes a priceless keepsake.  Learn options for what to use as a journal\, how to prepare\, what to pack\, and tips and tricks for journaling on the go. Fun tabs\, tags and add ins will also be covered.  This is a great follow up companion to the Flips\, Flaps\, and Fun morning workshop where participants will make their own hand bound travel journal with special fun features!
URL:https://fromvictoryroad.com/event/travel-journal/
LOCATION:Tessera Fine Art Gallery\, 412 E. Douglas\, Suite C\, Wichita\, KS\, 67202\, United States
CATEGORIES:Workshops
ATTACH;FMTTYPE=image/jpeg:https://fromvictoryroad.com/wp-content/uploads/2017/04/travel-journaling-copy.jpg
END:VEVENT
BEGIN:VEVENT
DTSTART;TZID=UTC:20170617T090000
DTEND;TZID=UTC:20170617T120000
DTSTAMP:20260423T150415
CREATED:20170409T205621Z
LAST-MODIFIED:20170601T025011Z
UID:11151-1497690000-1497700800@fromvictoryroad.com
SUMMARY:Flips\, Flaps\, and Fun Hand Bound Journal Workshop
DESCRIPTION:In this workshop we will make a fun hand bound journal with fold outs\, tabs\, add ins\, and other surprise features.  This will be a small journal perfect to carry on summer travels!  This class makes a great companion to the travel journal workshop in the afternoon.  Book binding basic techniques will be used\, and then we will have fun adding on from there! \nWatch this little teaser video!
URL:https://fromvictoryroad.com/event/flips-flaps-and-fun-hand-bound-journal-workshop/
LOCATION:Tessera Fine Art Gallery\, 412 E. Douglas\, Suite C\, Wichita\, KS\, 67202\, United States
CATEGORIES:Workshops
ATTACH;FMTTYPE=image/jpeg:https://fromvictoryroad.com/wp-content/uploads/2017/04/flips-flaps-and-fun.jpg
END:VEVENT
BEGIN:VEVENT
DTSTART;TZID=UTC:20170615T180000
DTEND;TZID=UTC:20170615T210000
DTSTAMP:20260423T150415
CREATED:20170409T200000Z
LAST-MODIFIED:20170409T200000Z
UID:11138-1497549600-1497560400@fromvictoryroad.com
SUMMARY:Mastering the Mediums
DESCRIPTION:Learn how and when to use the overwhelming array of mediums available.  Also learn some alternative uses.  Pouring mediums will be covered as well\, and samples of different mediums will be made.
URL:https://fromvictoryroad.com/event/mastering-the-mediums/
LOCATION:Tessera Fine Art Gallery\, 412 E. Douglas\, Suite C\, Wichita\, KS\, 67202\, United States
CATEGORIES:Workshops
ATTACH;FMTTYPE=image/jpeg:https://fromvictoryroad.com/wp-content/uploads/2017/04/mediums-copy.jpg
END:VEVENT
BEGIN:VEVENT
DTSTART;TZID=UTC:20170609T173000
DTEND;TZID=UTC:20170609T210000
DTSTAMP:20260423T150415
CREATED:20170601T141039Z
LAST-MODIFIED:20170601T142108Z
UID:11456-1497029400-1497042000@fromvictoryroad.com
SUMMARY:Maker's Street in Lindsborg
DESCRIPTION:I am the featured artist at The White Peacock coffee shop in Lindsborg for the month of June.  On Friday\, June 9th\, I will be spending the evening there to not only visit with those who stop by\, but to do a FREE hands on project to take home with you!!!  Hope you can come! \n  \n  \n  \n 
URL:https://fromvictoryroad.com/event/makers-street-in-lindsborg/
LOCATION:The White Peacock\, 124 S Main St\, Lindsborg\, KS\, 67456\, United States
CATEGORIES:Featured Artist,Workshops
ATTACH;FMTTYPE=image/jpeg:https://fromvictoryroad.com/wp-content/uploads/2017/02/16807132_1592084667483304_5837772465519078823_n.jpg
END:VEVENT
END:VCALENDAR