BEGIN:VCALENDAR
VERSION:2.0
PRODID:-//From Victory Road - ECPv6.15.20//NONSGML v1.0//EN
CALSCALE:GREGORIAN
METHOD:PUBLISH
X-WR-CALNAME:From Victory Road
X-ORIGINAL-URL:https://fromvictoryroad.com
X-WR-CALDESC:Events for From Victory Road
REFRESH-INTERVAL;VALUE=DURATION:PT1H
X-Robots-Tag:noindex
X-PUBLISHED-TTL:PT1H
BEGIN:VTIMEZONE
TZID:UTC
BEGIN:STANDARD
TZOFFSETFROM:+0000
TZOFFSETTO:+0000
TZNAME:UTC
DTSTART:20160101T000000
END:STANDARD
END:VTIMEZONE
BEGIN:VEVENT
DTSTART;TZID=UTC:20170805T130000
DTEND;TZID=UTC:20170805T160000
DTSTAMP:20260423T201218
CREATED:20170409T221320Z
LAST-MODIFIED:20170409T221320Z
UID:11176-1501938000-1501948800@fromvictoryroad.com
SUMMARY:Accordian Fold Journal
DESCRIPTION:Complete a mini accordian fold journal with a little box to store it in using mixed media techniques.
URL:https://fromvictoryroad.com/event/accordian-fold-journal/
LOCATION:Tessera Fine Art Gallery\, 412 E. Douglas\, Suite C\, Wichita\, KS\, 67202\, United States
CATEGORIES:Workshops
END:VEVENT
BEGIN:VEVENT
DTSTART;TZID=UTC:20170805T090000
DTEND;TZID=UTC:20170805T120000
DTSTAMP:20260423T201218
CREATED:20170409T220942Z
LAST-MODIFIED:20170409T220942Z
UID:11174-1501923600-1501934400@fromvictoryroad.com
SUMMARY:Altered Children's Book Workshop
DESCRIPTION:How to turn a children’s book into a themed art journal.  Bring your own book\, or choose one of mine.
URL:https://fromvictoryroad.com/event/altered-childrens-book-workshop/
LOCATION:Tessera Fine Art Gallery\, 412 E. Douglas\, Suite C\, Wichita\, KS\, 67202\, United States
CATEGORIES:Workshops
END:VEVENT
BEGIN:VEVENT
DTSTART;VALUE=DATE:20170801
DTEND;VALUE=DATE:20171001
DTSTAMP:20260423T201218
CREATED:20170409T222742Z
LAST-MODIFIED:20170409T222742Z
UID:11178-1501545600-1506815999@fromvictoryroad.com
SUMMARY:Featured Artist at Larksfield Place
DESCRIPTION:
URL:https://fromvictoryroad.com/event/featured-artist-at-larksfield-place/
LOCATION:Larksfield Place\, 2727 N Rock Rd\, Wichita\, KS\, 67226\, United States
CATEGORIES:Featured Artist
ATTACH;FMTTYPE=image/jpeg:https://fromvictoryroad.com/wp-content/uploads/2016/02/artist-profile-pic.jpg
END:VEVENT
BEGIN:VEVENT
DTSTART;TZID=UTC:20170708T130000
DTEND;TZID=UTC:20170708T160000
DTSTAMP:20260423T201218
CREATED:20170409T215542Z
LAST-MODIFIED:20170409T215542Z
UID:11167-1499518800-1499529600@fromvictoryroad.com
SUMMARY:Negative Spaces Workshop
DESCRIPTION:Learn techniques of reverse painting\, mixed media style!  An 11 x 14 canvas board will be completed.
URL:https://fromvictoryroad.com/event/negative-spaces-workshop/
LOCATION:Tessera Fine Art Gallery\, 412 E. Douglas\, Suite C\, Wichita\, KS\, 67202\, United States
CATEGORIES:Workshops
ATTACH;FMTTYPE=image/jpeg:https://fromvictoryroad.com/wp-content/uploads/2017/04/example-watermark.jpg
END:VEVENT
BEGIN:VEVENT
DTSTART;TZID=UTC:20170708T090000
DTEND;TZID=UTC:20170708T120000
DTSTAMP:20260423T201218
CREATED:20170409T214648Z
LAST-MODIFIED:20170409T214648Z
UID:11164-1499504400-1499515200@fromvictoryroad.com
SUMMARY:Musical Easels Workshop
DESCRIPTION:This is a super fun way to do a mixed media canvas. At each step of the way you pass your piece to the next person to work on until the timer goes off again. By the end\, you end up with your own original piece and have everyone’s contribution. Very fun to see the direction these go!
URL:https://fromvictoryroad.com/event/musical-easels-workshop/
LOCATION:Tessera Fine Art Gallery\, 412 E. Douglas\, Suite C\, Wichita\, KS\, 67202\, United States
CATEGORIES:Workshops
ATTACH;FMTTYPE=image/jpeg:https://fromvictoryroad.com/wp-content/uploads/2017/04/Jan-flyer-musical-easels-copy.jpg
END:VEVENT
BEGIN:VEVENT
DTSTART;TZID=UTC:20170706T180000
DTEND;TZID=UTC:20170706T210000
DTSTAMP:20260423T201218
CREATED:20170409T213549Z
LAST-MODIFIED:20170409T213549Z
UID:11159-1499364000-1499374800@fromvictoryroad.com
SUMMARY:Watercolor in the Mix Workshop
DESCRIPTION:In this class a sampler will be completed using several watercolor based mixed media techniques.
URL:https://fromvictoryroad.com/event/watercolor-in-the-mix-workshop/
LOCATION:Tessera Fine Art Gallery\, 412 E. Douglas\, Suite C\, Wichita\, KS\, 67202\, United States
ATTACH;FMTTYPE=image/jpeg:https://fromvictoryroad.com/wp-content/uploads/2017/04/watercolor-wkshp.jpg
END:VEVENT
BEGIN:VEVENT
DTSTART;TZID=UTC:20170627T180000
DTEND;TZID=UTC:20170627T210000
DTSTAMP:20260423T201218
CREATED:20170601T142730Z
LAST-MODIFIED:20170601T143738Z
UID:11461-1498586400-1498597200@fromvictoryroad.com
SUMMARY:Paper Mosaic Workshop
DESCRIPTION:Paper mosaics achieve the same look of traditional mosaics\, but with the use of paper bits or shapes.  In this worksjhop\, participants will use an array of papers to create their own original ready-to-frame artwork.  A variety of techniques and design principles will be presented. All materials provided.
URL:https://fromvictoryroad.com/event/paper-mosaic-workshop/
LOCATION:Dillon Nature Center\, 3002 E. 30th Avenue\, Hutchinson\, KS\, 67502\, United States
CATEGORIES:Workshops
ATTACH;FMTTYPE=image/jpeg:https://fromvictoryroad.com/wp-content/uploads/2017/04/Pieces-of-Spring-wm-e1507215118238.jpg
END:VEVENT
BEGIN:VEVENT
DTSTART;TZID=UTC:20170626T180000
DTEND;TZID=UTC:20170626T210000
DTSTAMP:20260423T201218
CREATED:20170601T141631Z
LAST-MODIFIED:20170601T143408Z
UID:11459-1498500000-1498510800@fromvictoryroad.com
SUMMARY:Citra Solv Workshop at The White Peacock
DESCRIPTION:All materials are provided at this hands on workshop to make beautiful papers using Citra Solv concentrated cleaners on National Geographic magazine pages.  Learn the basic technique plus several alterations to manipulate the effect into gorgeous additions to your own mixed media artwork or craft projects.
URL:https://fromvictoryroad.com/event/citra-solv-workshop-at-the-white-peacock/
LOCATION:The White Peacock\, 124 S Main St\, Lindsborg\, KS\, 67456\, United States
CATEGORIES:Workshops
ATTACH;FMTTYPE=image/jpeg:https://fromvictoryroad.com/wp-content/uploads/2017/05/citra-solv-pages.jpg
END:VEVENT
BEGIN:VEVENT
DTSTART;TZID=UTC:20170617T130000
DTEND;TZID=UTC:20170617T160000
DTSTAMP:20260423T201218
CREATED:20170409T204211Z
LAST-MODIFIED:20170409T204338Z
UID:11142-1497704400-1497715200@fromvictoryroad.com
SUMMARY:Travel Journal Workshop
DESCRIPTION:Get ready for your next vacation\, or document your last\, art journal style!  The travel journal is a mix between a scrapbook\, sketchbook and art journal.  It is a great way to fully experience your travels\, and makes a priceless keepsake.  Learn options for what to use as a journal\, how to prepare\, what to pack\, and tips and tricks for journaling on the go. Fun tabs\, tags and add ins will also be covered.  This is a great follow up companion to the Flips\, Flaps\, and Fun morning workshop where participants will make their own hand bound travel journal with special fun features!
URL:https://fromvictoryroad.com/event/travel-journal/
LOCATION:Tessera Fine Art Gallery\, 412 E. Douglas\, Suite C\, Wichita\, KS\, 67202\, United States
CATEGORIES:Workshops
ATTACH;FMTTYPE=image/jpeg:https://fromvictoryroad.com/wp-content/uploads/2017/04/travel-journaling-copy.jpg
END:VEVENT
BEGIN:VEVENT
DTSTART;TZID=UTC:20170617T090000
DTEND;TZID=UTC:20170617T120000
DTSTAMP:20260423T201218
CREATED:20170409T205621Z
LAST-MODIFIED:20170601T025011Z
UID:11151-1497690000-1497700800@fromvictoryroad.com
SUMMARY:Flips\, Flaps\, and Fun Hand Bound Journal Workshop
DESCRIPTION:In this workshop we will make a fun hand bound journal with fold outs\, tabs\, add ins\, and other surprise features.  This will be a small journal perfect to carry on summer travels!  This class makes a great companion to the travel journal workshop in the afternoon.  Book binding basic techniques will be used\, and then we will have fun adding on from there! \nWatch this little teaser video!
URL:https://fromvictoryroad.com/event/flips-flaps-and-fun-hand-bound-journal-workshop/
LOCATION:Tessera Fine Art Gallery\, 412 E. Douglas\, Suite C\, Wichita\, KS\, 67202\, United States
CATEGORIES:Workshops
ATTACH;FMTTYPE=image/jpeg:https://fromvictoryroad.com/wp-content/uploads/2017/04/flips-flaps-and-fun.jpg
END:VEVENT
BEGIN:VEVENT
DTSTART;TZID=UTC:20170615T180000
DTEND;TZID=UTC:20170615T210000
DTSTAMP:20260423T201218
CREATED:20170409T200000Z
LAST-MODIFIED:20170409T200000Z
UID:11138-1497549600-1497560400@fromvictoryroad.com
SUMMARY:Mastering the Mediums
DESCRIPTION:Learn how and when to use the overwhelming array of mediums available.  Also learn some alternative uses.  Pouring mediums will be covered as well\, and samples of different mediums will be made.
URL:https://fromvictoryroad.com/event/mastering-the-mediums/
LOCATION:Tessera Fine Art Gallery\, 412 E. Douglas\, Suite C\, Wichita\, KS\, 67202\, United States
CATEGORIES:Workshops
ATTACH;FMTTYPE=image/jpeg:https://fromvictoryroad.com/wp-content/uploads/2017/04/mediums-copy.jpg
END:VEVENT
BEGIN:VEVENT
DTSTART;TZID=UTC:20170609T173000
DTEND;TZID=UTC:20170609T210000
DTSTAMP:20260423T201218
CREATED:20170601T141039Z
LAST-MODIFIED:20170601T142108Z
UID:11456-1497029400-1497042000@fromvictoryroad.com
SUMMARY:Maker's Street in Lindsborg
DESCRIPTION:I am the featured artist at The White Peacock coffee shop in Lindsborg for the month of June.  On Friday\, June 9th\, I will be spending the evening there to not only visit with those who stop by\, but to do a FREE hands on project to take home with you!!!  Hope you can come! \n  \n  \n  \n 
URL:https://fromvictoryroad.com/event/makers-street-in-lindsborg/
LOCATION:The White Peacock\, 124 S Main St\, Lindsborg\, KS\, 67456\, United States
CATEGORIES:Featured Artist,Workshops
ATTACH;FMTTYPE=image/jpeg:https://fromvictoryroad.com/wp-content/uploads/2017/02/16807132_1592084667483304_5837772465519078823_n.jpg
END:VEVENT
BEGIN:VEVENT
DTSTART;VALUE=DATE:20170601
DTEND;VALUE=DATE:20170701
DTSTAMP:20260423T201218
CREATED:20170409T210946Z
LAST-MODIFIED:20170409T210946Z
UID:11155-1496275200-1498867199@fromvictoryroad.com
SUMMARY:Featured Artist at The White Peacock
DESCRIPTION:My art and I are headed to Lindsborg to be the featured artist at The White Peacock for the month of June!  I love this little artsy town… as well as Tayla Mace and her cute coffee shop/cafe.
URL:https://fromvictoryroad.com/event/featured-artist-at-the-white-peacock/
LOCATION:The White Peacock\, 124 S Main St\, Lindsborg\, KS\, 67456\, United States
CATEGORIES:Featured Artist
ATTACH;FMTTYPE=image/jpeg:https://fromvictoryroad.com/wp-content/uploads/2017/04/16807132_1592084667483304_5837772465519078823_n.jpg
END:VEVENT
BEGIN:VEVENT
DTSTART;TZID=UTC:20170511T180000
DTEND;TZID=UTC:20170511T180000
DTSTAMP:20260423T201218
CREATED:20170409T190318Z
LAST-MODIFIED:20170409T190734Z
UID:11125-1494525600-1494525600@fromvictoryroad.com
SUMMARY:Image Transfer Workshop
DESCRIPTION:There are lots of ways to transfer images and use them in your artwork\, or even in your sewing project!  Come learn the techniques\, and make a project!
URL:https://fromvictoryroad.com/event/image-transfer/
LOCATION:Tessera Fine Art Gallery\, 412 E. Douglas\, Suite C\, Wichita\, KS\, 67202\, United States
CATEGORIES:Workshops
END:VEVENT
BEGIN:VEVENT
DTSTART;TZID=UTC:20170506T130000
DTEND;TZID=UTC:20170506T160000
DTSTAMP:20260423T201218
CREATED:20170409T195109Z
LAST-MODIFIED:20170409T195109Z
UID:11136-1494075600-1494086400@fromvictoryroad.com
SUMMARY:Citra Solv II
DESCRIPTION:In the second session of the Citra Solv workshop\, we will use the papers produced and techniques learned to create a mixed media masterpiece!  I will share how I make a Citra Solv background and then we will use Citra Solv papers to collage on top.
URL:https://fromvictoryroad.com/event/citra-solv-ii/
LOCATION:Tessera Fine Art Gallery\, 412 E. Douglas\, Suite C\, Wichita\, KS\, 67202\, United States
CATEGORIES:Workshops
ATTACH;FMTTYPE=image/jpeg:https://fromvictoryroad.com/wp-content/uploads/2017/04/Citra-Solv-project.jpg
END:VEVENT
BEGIN:VEVENT
DTSTART;TZID=UTC:20170506T090000
DTEND;TZID=UTC:20170506T120000
DTSTAMP:20260423T201218
CREATED:20170409T192330Z
LAST-MODIFIED:20170409T192330Z
UID:11128-1494061200-1494072000@fromvictoryroad.com
SUMMARY:Citra Solv I
DESCRIPTION:Citra Solv part 1 workshop will cover the techniques for altering National Geographic magazine pages with Citra Solv concentrated cleaner to make beautiful altered papers that can be used as collage papers in artwork. \n \nWe will also learn how to further manipulate our papers\, as well as learn how Citra Solv can be used in image transfer. \n  
URL:https://fromvictoryroad.com/event/citra-solv-i/
LOCATION:Tessera Fine Art Gallery\, 412 E. Douglas\, Suite C\, Wichita\, KS\, 67202\, United States
CATEGORIES:Workshops
ATTACH;FMTTYPE=image/jpeg:https://fromvictoryroad.com/wp-content/uploads/2017/04/2.jpg
END:VEVENT
BEGIN:VEVENT
DTSTART;TZID=UTC:20170409T080000
DTEND;TZID=UTC:20170409T170000
DTSTAMP:20260423T201218
CREATED:20170409T223819Z
LAST-MODIFIED:20170409T223819Z
UID:11182-1491724800-1491757200@fromvictoryroad.com
SUMMARY:Artist in Residence at The Red Barn Studio
DESCRIPTION:I am thrilled to again be an artist in residence at The Red Barn Studio in Lindsborg\, KS August 13-26.  I will be working on my Home on the Range series\, celebrating the beauty and diversity of my home state of Kansas.  I look forward to working in the studio of Lester Raymer an accomplished and ecclectic mixed media artist.  I will also be holding a stamp carving workshop on the evening of Tuesday the 15th and a two part Citra Solv workshop on Saturday\, Aug. 26.
URL:https://fromvictoryroad.com/event/artist-in-residence-at-the-red-barn-studio/
LOCATION:KS
CATEGORIES:Featured Artist
ATTACH;FMTTYPE=image/jpeg:https://fromvictoryroad.com/wp-content/uploads/2017/04/Red-Barn-Studio.jpg
END:VEVENT
BEGIN:VEVENT
DTSTART;TZID=UTC:20170409T080000
DTEND;TZID=UTC:20170409T170000
DTSTAMP:20260423T201218
CREATED:20170409T220346Z
LAST-MODIFIED:20170409T220346Z
UID:11170-1491724800-1491757200@fromvictoryroad.com
SUMMARY:Opening Reception at Larksfield Place
DESCRIPTION:Opening Reception at Larksfield Place
URL:https://fromvictoryroad.com/event/opening-reception-at-larksfield-place/
LOCATION:KS
CATEGORIES:Featured Artist
ATTACH;FMTTYPE=image/jpeg:https://fromvictoryroad.com/wp-content/uploads/2016/02/artist-profile-pic.jpg
END:VEVENT
BEGIN:VEVENT
DTSTART;TZID=UTC:20170408T120000
DTEND;TZID=UTC:20170408T160000
DTSTAMP:20260423T201218
CREATED:20170213T032908Z
LAST-MODIFIED:20170213T032908Z
UID:10077-1491652800-1491667200@fromvictoryroad.com
SUMMARY:Dyed and True Workshop at Tessera Fine Art Gallery
DESCRIPTION:Incorporating hand dyed papers and fabrics into a mixed media collage artwork or journal page \nSaturday\, April 8 9am to noon \nTessera Fine Art Gallery \nCost $35\, all supplies included \nCall (316) 262-2435 to sign up
URL:https://fromvictoryroad.com/event/dyed-and-true-workshop-at-tessera-fine-art-gallery/
LOCATION:Tessera Fine Art Gallery\, 412 E. Douglas\, Suite C\, Wichita\, KS\, 67202\, United States
CATEGORIES:Workshops
ATTACH;FMTTYPE=image/jpeg:https://fromvictoryroad.com/wp-content/uploads/2017/02/fabric-texture-54_zkpjyrtO.jpg
END:VEVENT
BEGIN:VEVENT
DTSTART;TZID=UTC:20170408T090000
DTEND;TZID=UTC:20170408T120000
DTSTAMP:20260423T201218
CREATED:20170213T032132Z
LAST-MODIFIED:20170318T042256Z
UID:10074-1491642000-1491652800@fromvictoryroad.com
SUMMARY:Worth Dyeing For Workshop at Tessera Gallery
DESCRIPTION:  \nEco dying papers and fabrics to use in your art projects \nSaturday\, April 8 \n9am to noon \nTessera Fine Art Gallery \nCost $35\, all supplies included \nCall (316) 262-2435 to sign up
URL:https://fromvictoryroad.com/event/worth-dyeing-for-workshop-at-tessera-gallery/
LOCATION:Tessera Fine Art Gallery\, 412 E. Douglas\, Suite C\, Wichita\, KS\, 67202\, United States
CATEGORIES:Workshops
ATTACH;FMTTYPE=image/jpeg:https://fromvictoryroad.com/wp-content/uploads/2017/03/bigstock-170309336.jpg
END:VEVENT
BEGIN:VEVENT
DTSTART;TZID=UTC:20170406T180000
DTEND;TZID=UTC:20170406T210000
DTSTAMP:20260423T201218
CREATED:20170213T020429Z
LAST-MODIFIED:20170213T020429Z
UID:10070-1491501600-1491512400@fromvictoryroad.com
SUMMARY:Paying Tribute Workshop at Tessera Gallery
DESCRIPTION:Hands on workshop by Kayann Ausherman \nat \nTessera Fine Art Gallery\, Wichita \nThursday\, April 6 \n6—9pm \nCost $35 \n\nParticipants  will be provided with a 6 inch canvas on which to pay tribute to a loved one and preserve their memories.  In doing so\, mixed media techniques and products for layering\, aging\, and distressing will be used\, as well as including dimensional keepsake or representational items.  All materials provided. \n\nOPTIONAL:  If you would like to work in your journal\, bring it!  You can also bring a photo copy (either laser or ink jet) of old photos\, and any small items or quotes you would like to include in your piece to personalize your tribute project. \n\nCall the gallery at (316) 262-2435 to reserve your spot! \n 
URL:https://fromvictoryroad.com/event/paying-tribute-workshop-at-tessera-gallery/
LOCATION:Tessera Fine Art Gallery\, 412 E. Douglas\, Suite C\, Wichita\, KS\, 67202\, United States
CATEGORIES:Workshops
ATTACH;FMTTYPE=image/png:https://fromvictoryroad.com/wp-content/uploads/2017/02/the-memories.png
END:VEVENT
BEGIN:VEVENT
DTSTART;VALUE=DATE:20170401
DTEND;VALUE=DATE:20170601
DTSTAMP:20260423T201218
CREATED:20170202T170613Z
LAST-MODIFIED:20170202T170824Z
UID:10051-1491004800-1496275199@fromvictoryroad.com
SUMMARY:Featured Artist Dillon Nature Center
DESCRIPTION:I am so excited to be back at Dillon Nature Center with an all new selection of nature themed artwork!  Exhibit will run through the months of\nApril and May!
URL:https://fromvictoryroad.com/event/featured-artist-dillon-nature-center/
LOCATION:Dillon Nature Center\, 3002 E. 30th Avenue\, Hutchinson\, KS\, 67502\, United States
CATEGORIES:Featured Artist
ATTACH;FMTTYPE=image/jpeg:https://fromvictoryroad.com/wp-content/uploads/2017/02/DSCN1427-copy.jpg
END:VEVENT
BEGIN:VEVENT
DTSTART;TZID=UTC:20170311T130000
DTEND;TZID=UTC:20170311T160000
DTSTAMP:20260423T201218
CREATED:20170202T175545Z
LAST-MODIFIED:20170202T175545Z
UID:10062-1489237200-1489248000@fromvictoryroad.com
SUMMARY:Stamp Carving II at Tessera Fine Art Gallery
DESCRIPTION:  \n \nTake your stamp carving a step further in a continuation of the morning workshop with guided options to complete a repeating stamp\, art stamp\, or multiple part stamps. \nAlso open to those who have some stamp carving experience and their own carving tools to bring. \nat Tessera Fine Art Gallery \nSaturday\, March 11  1:00 – 4:00pm \nCost $35  bring your own carving tool\, all other materials provided
URL:https://fromvictoryroad.com/event/stamp-carving-ii-at-tessera-fine-art-gallery/
LOCATION:Tessera Fine Art Gallery\, 412 E. Douglas\, Suite C\, Wichita\, KS\, 67202\, United States
CATEGORIES:Workshops
ATTACH;FMTTYPE=image/jpeg:https://fromvictoryroad.com/wp-content/uploads/2017/02/20160223_142941.jpg
END:VEVENT
BEGIN:VEVENT
DTSTART;TZID=UTC:20170311T090000
DTEND;TZID=UTC:20170311T110000
DTSTAMP:20260423T201218
CREATED:20170202T173937Z
LAST-MODIFIED:20170202T173937Z
UID:10057-1489222800-1489230000@fromvictoryroad.com
SUMMARY:Stamp Carving at Tessera Gallery
DESCRIPTION:Make your own hand carved personalized stamps to use in your art and craft projects!  We will try out several types of carving material and tools while learning techniques for designing and transferring images\, making repeating patterns\, two part stamps and more!  All the basic information and supplies you will need to get started! \n \nThis workshop will be held at Tessera Fine Art Gallery \nSaturday\, March 11  9am to noon \nCost is $50 and INCLUDES ALL SUPPLIES\, TOOLS\, and INSTRUCTION NEEDED! \nFollow up with the afternoon class where we will create a stamp as a work of art to use again and again!
URL:https://fromvictoryroad.com/event/stamp-carving-at-tessera-gallery/
LOCATION:Tessera Fine Art Gallery\, 412 E. Douglas\, Suite C\, Wichita\, KS\, 67202\, United States
CATEGORIES:Workshops
ATTACH;FMTTYPE=image/jpeg:https://fromvictoryroad.com/wp-content/uploads/2017/02/handcarved-stamps.jpg
END:VEVENT
BEGIN:VEVENT
DTSTART;TZID=UTC:20170309T180000
DTEND;TZID=UTC:20170309T210000
DTSTAMP:20260423T201218
CREATED:20170202T171931Z
LAST-MODIFIED:20170202T171931Z
UID:10054-1489082400-1489093200@fromvictoryroad.com
SUMMARY:Using Your Junk Journal at Tessera Gallery
DESCRIPTION:Thursday 6 to 9pm at Tessera Fine Art Gallery in Wichita \nHow to take your junk journal\, or book to alter\, and prepare and use them to become beautiful\, art full books! \nCall (316) 262-2435 to register
URL:https://fromvictoryroad.com/event/using-your-junk-journal-at-tessera-gallery/
LOCATION:Tessera Fine Art Gallery\, 412 E. Douglas\, Suite C\, Wichita\, KS\, 67202\, United States
CATEGORIES:Workshops
ATTACH;FMTTYPE=image/jpeg:https://fromvictoryroad.com/wp-content/uploads/2017/02/spread-26-wip.jpg
END:VEVENT
BEGIN:VEVENT
DTSTART;VALUE=DATE:20170301
DTEND;VALUE=DATE:20170416
DTSTAMP:20260423T201218
CREATED:20170202T165838Z
LAST-MODIFIED:20170202T165838Z
UID:10049-1488326400-1492300799@fromvictoryroad.com
SUMMARY:Featured Artist - Unity Church
DESCRIPTION:
URL:https://fromvictoryroad.com/event/featured-artist-unity-church/
LOCATION:Unity Church\, Wichita\, KS\, United States
CATEGORIES:Featured Artist
ATTACH;FMTTYPE=image/jpeg:https://fromvictoryroad.com/wp-content/uploads/2016/02/artist-profile-pic.jpg
END:VEVENT
BEGIN:VEVENT
DTSTART;TZID=UTC:20170224T173000
DTEND;TZID=UTC:20170224T210000
DTSTAMP:20260423T201218
CREATED:20170202T164741Z
LAST-MODIFIED:20170213T021623Z
UID:10046-1487957400-1487970000@fromvictoryroad.com
SUMMARY:Wichita's Final Friday
DESCRIPTION:On the last Friday of every month\, art lovers hit the streets to enjoy this evening when galleries and shops stay open late.  You can usually find me hanging out in the classroom doing a demo or showing what workshops are coming up.  This is also where I have art all the time\, so if you want to catch some of my latest art\, this is the place to come! \nFor a map of places to go visit https://www.facebook.com/FinalFridayICT/
URL:https://fromvictoryroad.com/event/wichitas-final-friday/
LOCATION:Tessera Fine Art Gallery\, 412 E. Douglas\, Suite C\, Wichita\, KS\, 67202\, United States
CATEGORIES:Featured Artist
ATTACH;FMTTYPE=image/jpeg:https://fromvictoryroad.com/wp-content/uploads/2017/02/Jan-gallery-wall.jpg
END:VEVENT
BEGIN:VEVENT
DTSTART;TZID=UTC:20170211T130000
DTEND;TZID=UTC:20170211T160000
DTSTAMP:20260423T201218
CREATED:20170202T163654Z
LAST-MODIFIED:20170202T163654Z
UID:10042-1486818000-1486828800@fromvictoryroad.com
SUMMARY:Collage Your Story at Tessera Fine Art Gallery
DESCRIPTION:Collage Your Story \n  \nWorkshop by Kayann Ausherman \nat \n Tessera Fine Art Gallery \nSaturday\, Feb.11 \n1:00 to 4:00pm \n  \nEveryone has a story to tell\, come tell yours through symbol and collage.  \nTake home a keepsake in your art journal  \nor to frame! \nCost $35 \nAll materials provided \nCall (316) 262-2435 to sign up \n \n 
URL:https://fromvictoryroad.com/event/collage-your-story-at-tessera-fine-art-gallery/
LOCATION:Tessera Fine Art Gallery\, 412 E. Douglas\, Suite C\, Wichita\, KS\, 67202\, United States
CATEGORIES:Workshops
ATTACH;FMTTYPE=image/jpeg:https://fromvictoryroad.com/wp-content/uploads/2017/02/20170109_072202.jpg
END:VEVENT
BEGIN:VEVENT
DTSTART;TZID=UTC:20170211T090000
DTEND;TZID=UTC:20170211T120000
DTSTAMP:20260423T201218
CREATED:20170202T162848Z
LAST-MODIFIED:20170213T013029Z
UID:10037-1486803600-1486814400@fromvictoryroad.com
SUMMARY:Paper Mosaics at Tessera Gallery
DESCRIPTION:Paper Mosaics \n  \nWorkshop by Kayann Ausherman \nat \n Tessera Fine Art Gallery \nSaturday\, Feb.11 \n9:00am to noon \n Hands on workshop to create pieced paper mosaics in your art journal\, to frame\, or to give to your sweetheart! \n Cost $35 \nAll materials provided \nCall (316) 262-2435 to sign up \n \nTessera flyer \n 
URL:https://fromvictoryroad.com/event/paper-mosaics-at-tessera-gallery/
LOCATION:Tessera Fine Art Gallery\, 412 E. Douglas\, Suite C\, Wichita\, KS\, 67202\, United States
CATEGORIES:Workshops
ATTACH;FMTTYPE=image/jpeg:https://fromvictoryroad.com/wp-content/uploads/2017/02/20170119_080421.jpg
END:VEVENT
BEGIN:VEVENT
DTSTART;TZID=UTC:20170209T180000
DTEND;TZID=UTC:20170209T210000
DTSTAMP:20260423T201218
CREATED:20170202T161420Z
LAST-MODIFIED:20170202T161803Z
UID:10032-1486663200-1486674000@fromvictoryroad.com
SUMMARY:Paint With Paper at Tessera Gallery
DESCRIPTION:Workshop by Kayann Ausherman \nat \n Tessera Fine Art Gallery \nThursday\, Feb.9 \n6:00 to 9:00pm \n  \nHands on workshop to learn  \ntechniques for using paper to  \ncreate painterly collages on canvas or in the art journal.   \n  \nCost $35 \nAll materials provided \nCall (316) 262-2435 to sign up \n 
URL:https://fromvictoryroad.com/event/paint-with-paper/
LOCATION:Tessera Fine Art Gallery\, 412 E. Douglas\, Suite C\, Wichita\, KS\, 67202\, United States
CATEGORIES:Workshops
ATTACH;FMTTYPE=image/jpeg:https://fromvictoryroad.com/wp-content/uploads/2017/02/Time-to-Savor-watermark.jpg
END:VEVENT
END:VCALENDAR