BEGIN:VCALENDAR
VERSION:2.0
PRODID:-//From Victory Road - ECPv6.15.20//NONSGML v1.0//EN
CALSCALE:GREGORIAN
METHOD:PUBLISH
X-WR-CALNAME:From Victory Road
X-ORIGINAL-URL:https://fromvictoryroad.com
X-WR-CALDESC:Events for From Victory Road
REFRESH-INTERVAL;VALUE=DURATION:PT1H
X-Robots-Tag:noindex
X-PUBLISHED-TTL:PT1H
BEGIN:VTIMEZONE
TZID:UTC
BEGIN:STANDARD
TZOFFSETFROM:+0000
TZOFFSETTO:+0000
TZNAME:UTC
DTSTART:20170101T000000
END:STANDARD
END:VTIMEZONE
BEGIN:VEVENT
DTSTART;VALUE=DATE:20180803
DTEND;VALUE=DATE:20181001
DTSTAMP:20260423T071658
CREATED:20180810T133855Z
LAST-MODIFIED:20180810T133855Z
UID:12762-1533254400-1538351999@fromvictoryroad.com
SUMMARY:Featured Artist Dillon Nature Center
DESCRIPTION:I am very pleased to have my artwork hanging once again at Dillon Nature Center.  My work will be in the meeting room through the months of August and September.
URL:https://fromvictoryroad.com/event/featured-artist-dillon-nature-center-2/
LOCATION:Dillon Nature Center\, 3002 E. 30th Avenue\, Hutchinson\, KS\, 67502\, United States
CATEGORIES:Featured Artist
ATTACH;FMTTYPE=image/jpeg:https://fromvictoryroad.com/wp-content/uploads/2018/08/Conversationally-Yours-wm.jpg
END:VEVENT
BEGIN:VEVENT
DTSTART;TZID=UTC:20180811T090000
DTEND;TZID=UTC:20180811T120000
DTSTAMP:20260423T071658
CREATED:20180521T121452Z
LAST-MODIFIED:20180521T121452Z
UID:12548-1533978000-1533988800@fromvictoryroad.com
SUMMARY:Negative Spaces
DESCRIPTION:Learn how to create a  piece of mixed media art by painting the negative spaces. This is a technique that I use in some degree in much of my artwork. You will finish an 11 x 14 inch piece of art during the class period.
URL:https://fromvictoryroad.com/event/negative-spaces/
LOCATION:Tessera Fine Art Gallery\, 412 E. Douglas\, Suite C\, Wichita\, KS\, 67202\, United States
CATEGORIES:Workshops
ATTACH;FMTTYPE=image/jpeg:https://fromvictoryroad.com/wp-content/uploads/2016/07/focus-on-the-negatives-e1526904799766.jpg
END:VEVENT
BEGIN:VEVENT
DTSTART;TZID=UTC:20180811T090000
DTEND;TZID=UTC:20180811T120000
DTSTAMP:20260423T071658
CREATED:20180521T122501Z
LAST-MODIFIED:20180521T122501Z
UID:12550-1533978000-1533988800@fromvictoryroad.com
SUMMARY:"Gridworks" Workshop
DESCRIPTION:Learn how to make a De Stijl style abstract piece using mixed media and silhoutte of your choice!
URL:https://fromvictoryroad.com/event/gridworks-workshop/
LOCATION:Tessera Fine Art Gallery\, 412 E. Douglas\, Suite C\, Wichita\, KS\, 67202\, United States
CATEGORIES:Workshops
ATTACH;FMTTYPE=image/jpeg:https://fromvictoryroad.com/wp-content/uploads/2018/04/Keeper-of-the-Sunrise-wm.jpg
END:VEVENT
END:VCALENDAR