BEGIN:VCALENDAR
VERSION:2.0
PRODID:-//From Victory Road - ECPv6.15.20//NONSGML v1.0//EN
CALSCALE:GREGORIAN
METHOD:PUBLISH
X-ORIGINAL-URL:https://fromvictoryroad.com
X-WR-CALDESC:Events for From Victory Road
REFRESH-INTERVAL;VALUE=DURATION:PT1H
X-Robots-Tag:noindex
X-PUBLISHED-TTL:PT1H
BEGIN:VTIMEZONE
TZID:UTC
BEGIN:STANDARD
TZOFFSETFROM:+0000
TZOFFSETTO:+0000
TZNAME:UTC
DTSTART:20170101T000000
END:STANDARD
END:VTIMEZONE
BEGIN:VEVENT
DTSTART;VALUE=DATE:20180803
DTEND;VALUE=DATE:20181001
DTSTAMP:20260423T053912
CREATED:20180810T133855Z
LAST-MODIFIED:20180810T133855Z
UID:12762-1533254400-1538351999@fromvictoryroad.com
SUMMARY:Featured Artist Dillon Nature Center
DESCRIPTION:I am very pleased to have my artwork hanging once again at Dillon Nature Center.  My work will be in the meeting room through the months of August and September.
URL:https://fromvictoryroad.com/event/featured-artist-dillon-nature-center-2/
LOCATION:Dillon Nature Center\, 3002 E. 30th Avenue\, Hutchinson\, KS\, 67502\, United States
CATEGORIES:Featured Artist
ATTACH;FMTTYPE=image/jpeg:https://fromvictoryroad.com/wp-content/uploads/2018/08/Conversationally-Yours-wm.jpg
END:VEVENT
BEGIN:VEVENT
DTSTART;TZID=UTC:20180906T180000
DTEND;TZID=UTC:20180906T210000
DTSTAMP:20260423T053912
CREATED:20180521T123148Z
LAST-MODIFIED:20180521T123148Z
UID:12552-1536256800-1536267600@fromvictoryroad.com
SUMMARY:Make It Mini Workshop
DESCRIPTION:Learn how to make sines\, accordion fold books and matchbook journals in this hands on workshop.
URL:https://fromvictoryroad.com/event/make-it-mini-workshop/
LOCATION:Tessera Fine Art Gallery\, 412 E. Douglas\, Suite C\, Wichita\, KS\, 67202\, United States
CATEGORIES:Workshops
ATTACH;FMTTYPE=image/jpeg:https://fromvictoryroad.com/wp-content/uploads/2018/05/etsy-1-e1526905666417.jpg
END:VEVENT
BEGIN:VEVENT
DTSTART;TZID=UTC:20180915T090000
DTEND;TZID=UTC:20180915T120000
DTSTAMP:20260423T053912
CREATED:20180521T123629Z
LAST-MODIFIED:20180521T123629Z
UID:12555-1537002000-1537012800@fromvictoryroad.com
SUMMARY:Paper Mosaic
DESCRIPTION:Use tiny paper scraps to make a “stained glass” collage piece of artwork!
URL:https://fromvictoryroad.com/event/paper-mosaic/
LOCATION:Tessera Fine Art Gallery\, 412 E. Douglas\, Suite C\, Wichita\, KS\, 67202\, United States
CATEGORIES:Workshops
ATTACH;FMTTYPE=image/jpeg:https://fromvictoryroad.com/wp-content/uploads/2017/04/Pieces-of-Spring-wm-e1507215118238.jpg
END:VEVENT
BEGIN:VEVENT
DTSTART;TZID=UTC:20180915T130000
DTEND;TZID=UTC:20180915T160000
DTSTAMP:20260423T053912
CREATED:20180521T124757Z
LAST-MODIFIED:20180810T133315Z
UID:12557-1537016400-1537027200@fromvictoryroad.com
SUMMARY:Fiber Art
DESCRIPTION:  \n \nCollage with hand dyed fabrics\, then add trims\, embellishments\, and stitches\, to make 2D fiber artwork. We will be making stitches\, but no prior sewing or embroidery experience is needed.  All materials provided.
URL:https://fromvictoryroad.com/event/fiber-art/
LOCATION:Tessera Fine Art Gallery\, 412 E. Douglas\, Suite C\, Wichita\, KS\, 67202\, United States
CATEGORIES:Workshops
ATTACH;FMTTYPE=image/jpeg:https://fromvictoryroad.com/wp-content/uploads/2018/05/fiber-art-e1533907885581.jpg
END:VEVENT
BEGIN:VEVENT
DTSTART;TZID=UTC:20180919T090000
DTEND;TZID=UTC:20180922T160000
DTSTAMP:20260423T053912
CREATED:20180521T003006Z
LAST-MODIFIED:20180521T003104Z
UID:12540-1537347600-1537632000@fromvictoryroad.com
SUMMARY:4 Day Journal It! Workshop
DESCRIPTION:  \n \nCreate a complete art journal start to finish! Over the four day workshop you will make your own hand bound art journal AND fill the pages with some of my favorite mixed media and journaling techniques!  Both tools and techniques will be introduced each day as we complete our pages. \n  \nTake a look at a flip through of one of my journals.
URL:https://fromvictoryroad.com/event/4-day-journal-it-workshop/
LOCATION:Tessera Fine Art Gallery\, 412 E. Douglas\, Suite C\, Wichita\, KS\, 67202\, United States
CATEGORIES:Workshops
ATTACH;FMTTYPE=image/jpeg:https://fromvictoryroad.com/wp-content/uploads/2017/10/Creativity-page-e1507596170587.jpg
END:VEVENT
END:VCALENDAR