BEGIN:VCALENDAR
VERSION:2.0
PRODID:-//From Victory Road - ECPv6.15.20//NONSGML v1.0//EN
CALSCALE:GREGORIAN
METHOD:PUBLISH
X-WR-CALNAME:From Victory Road
X-ORIGINAL-URL:https://fromvictoryroad.com
X-WR-CALDESC:Events for From Victory Road
REFRESH-INTERVAL;VALUE=DURATION:PT1H
X-Robots-Tag:noindex
X-PUBLISHED-TTL:PT1H
BEGIN:VTIMEZONE
TZID:UTC
BEGIN:STANDARD
TZOFFSETFROM:+0000
TZOFFSETTO:+0000
TZNAME:UTC
DTSTART:20170101T000000
END:STANDARD
END:VTIMEZONE
BEGIN:VEVENT
DTSTART;TZID=UTC:20181007T080000
DTEND;TZID=UTC:20181019T170000
DTSTAMP:20260423T071728
CREATED:20170825T195435Z
LAST-MODIFIED:20170825T195435Z
UID:11717-1538899200-1539968400@fromvictoryroad.com
SUMMARY:Artist in Residence at the Red Barn Studio
DESCRIPTION:I am thrilled to be artist in residence at the Red Barn Studio in Lindsborg\, KS for my third year running!
URL:https://fromvictoryroad.com/event/artist-in-residence-at-the-red-barn-studio-2/
LOCATION:The Red Barn Studio\, 212 S. Main\,\, Lindsborg\, KS\, 67456\, United States
CATEGORIES:Featured Artist
ATTACH;FMTTYPE=image/jpeg:https://fromvictoryroad.com/wp-content/uploads/2017/08/img_0609-e1503690559499.jpg
END:VEVENT
BEGIN:VEVENT
DTSTART;TZID=UTC:20181013T100000
DTEND;TZID=UTC:20181013T160000
DTSTAMP:20260423T071728
CREATED:20181005T161211Z
LAST-MODIFIED:20181005T161211Z
UID:12899-1539424800-1539446400@fromvictoryroad.com
SUMMARY:Artisan Market at the Workroom
DESCRIPTION:
URL:https://fromvictoryroad.com/event/artisan-market-at-the-workroom/
LOCATION:The Workroom\, 150 N. Cleveland St.\, Wichita\, KS\, 67214\, United States
CATEGORIES:Craft Shows
ATTACH;FMTTYPE=image/jpeg:https://fromvictoryroad.com/wp-content/uploads/2018/04/Mounted-Prints-e1523295176624.jpg
END:VEVENT
BEGIN:VEVENT
DTSTART;TZID=UTC:20181021T180000
DTEND;TZID=UTC:20181021T210000
DTSTAMP:20260423T071728
CREATED:20180521T134936Z
LAST-MODIFIED:20181002T201908Z
UID:12563-1540144800-1540155600@fromvictoryroad.com
SUMMARY:Think Ink Workshop
DESCRIPTION:Learn about the different types of ink and how each are used\, especially in mixed media artwork.  We will also look at surfaces for ink and the different look achieved with each.  Then we will zero in on the popular alcohol inks and learn some of their fun qualities as we complete a few small projects to take home.
URL:https://fromvictoryroad.com/event/think-ink-workshop/
LOCATION:Tessera Fine Art Gallery\, 412 E. Douglas\, Suite C\, Wichita\, KS\, 67202\, United States
CATEGORIES:Workshops
ATTACH;FMTTYPE=image/jpeg:https://fromvictoryroad.com/wp-content/uploads/2018/05/think-ink-e1526909291442.jpg
END:VEVENT
BEGIN:VEVENT
DTSTART;TZID=UTC:20181025T180000
DTEND;TZID=UTC:20181025T203000
DTSTAMP:20260423T071728
CREATED:20181002T202703Z
LAST-MODIFIED:20181002T202703Z
UID:12895-1540490400-1540499400@fromvictoryroad.com
SUMMARY:Drippy Fingerpainted Flowers
DESCRIPTION:
URL:https://fromvictoryroad.com/event/drippy-fingerpainted-flowers/
LOCATION:Dillon Nature Center\, 3002 E. 30th Avenue\, Hutchinson\, KS\, 67502\, United States
CATEGORIES:Workshops
ATTACH;FMTTYPE=image/jpeg:https://fromvictoryroad.com/wp-content/uploads/2018/03/First-Blush-wip-e1538511719577.jpg
END:VEVENT
BEGIN:VEVENT
DTSTART;TZID=UTC:20181027T090000
DTEND;TZID=UTC:20181027T120000
DTSTAMP:20260423T071728
CREATED:20180521T125841Z
LAST-MODIFIED:20180521T130102Z
UID:12559-1540630800-1540641600@fromvictoryroad.com
SUMMARY:Ecodying Workshop
DESCRIPTION:  \n \nLearn the basics of using natural dyes on papers and fabrics.  We will also make dye bundles to take home and use.  Lots of information in the handout for this class!  Afternoon class follows up with a “Little Book of Colors” project!
URL:https://fromvictoryroad.com/event/ecodying-workshop/
LOCATION:Tessera Fine Art Gallery\, 412 E. Douglas\, Suite C\, Wichita\, KS\, 67202\, United States
CATEGORIES:Workshops
ATTACH;FMTTYPE=image/jpeg:https://fromvictoryroad.com/wp-content/uploads/2017/04/Natural-Dyes.jpg
END:VEVENT
BEGIN:VEVENT
DTSTART;TZID=UTC:20181027T130000
DTEND;TZID=UTC:20181027T160000
DTSTAMP:20260423T071728
CREATED:20180521T131031Z
LAST-MODIFIED:20180521T131031Z
UID:12561-1540645200-1540656000@fromvictoryroad.com
SUMMARY:Little Book of Color
DESCRIPTION:Use naturally dyed papers and fabrics to make a beautiful little book of colors.  Some of the techniques include: simple hand stitching\, using soy and beeswax\, and incorporating items from nature. Great follow up for the morning Eco Dye session!
URL:https://fromvictoryroad.com/event/little-book-of-color/
CATEGORIES:Workshops
ATTACH;FMTTYPE=image/jpeg:https://fromvictoryroad.com/wp-content/uploads/2017/04/Color-Book-copy.jpg
END:VEVENT
END:VCALENDAR