BEGIN:VCALENDAR
VERSION:2.0
PRODID:-//From Victory Road - ECPv6.15.20//NONSGML v1.0//EN
CALSCALE:GREGORIAN
METHOD:PUBLISH
X-ORIGINAL-URL:https://fromvictoryroad.com
X-WR-CALDESC:Events for From Victory Road
REFRESH-INTERVAL;VALUE=DURATION:PT1H
X-Robots-Tag:noindex
X-PUBLISHED-TTL:PT1H
BEGIN:VTIMEZONE
TZID:UTC
BEGIN:STANDARD
TZOFFSETFROM:+0000
TZOFFSETTO:+0000
TZNAME:UTC
DTSTART:20180101T000000
END:STANDARD
END:VTIMEZONE
BEGIN:VEVENT
DTSTART;TZID=UTC:20190405T080000
DTEND;TZID=UTC:20190430T170000
DTSTAMP:20260423T060038
CREATED:20190219T203146Z
LAST-MODIFIED:20190219T203521Z
UID:13437-1554451200-1556643600@fromvictoryroad.com
SUMMARY:Featured Artist at Salina Community Theater and the Flower Nook
DESCRIPTION:I will be privileged to have my art hanging for the month of April at the Salina Community Theater\, as well as at the Flower Nook\, in Salina\, Kansas.  Sunday in the Park with George will be playing in the theater during this time\, and the Flower Nook has all kinds of great giftables\, so take a trip to Salina and enjoy the arts!
URL:https://fromvictoryroad.com/event/featured-artist-at-salina-community-theater/
LOCATION:Salina Community Theater\, 303 E Iron Ave\, Salina\, KS\, 67401\, United States
CATEGORIES:Featured Artist
END:VEVENT
BEGIN:VEVENT
DTSTART;TZID=UTC:20190405T160000
DTEND;TZID=UTC:20190405T190000
DTSTAMP:20260423T060038
CREATED:20190219T202426Z
LAST-MODIFIED:20190219T202426Z
UID:13433-1554480000-1554490800@fromvictoryroad.com
SUMMARY:First Friday at the Flower Nook
DESCRIPTION:
URL:https://fromvictoryroad.com/event/first-friday-at-the-flower-nook/
LOCATION:KS\, United States
CATEGORIES:Featured Artist
END:VEVENT
BEGIN:VEVENT
DTSTART;TZID=UTC:20190411T173000
DTEND;TZID=UTC:20190411T193000
DTSTAMP:20260423T060038
CREATED:20190228T222641Z
LAST-MODIFIED:20190228T222641Z
UID:13458-1555003800-1555011000@fromvictoryroad.com
SUMMARY:Derby Library "Your Community" Artist Reception
DESCRIPTION:
URL:https://fromvictoryroad.com/event/derby-library-your-community-artist-reception/
CATEGORIES:Art Show
ATTACH;FMTTYPE=image/jpeg:https://fromvictoryroad.com/wp-content/uploads/2019/02/Hometown-USA-wm.jpg
END:VEVENT
BEGIN:VEVENT
DTSTART;TZID=UTC:20190413T100000
DTEND;TZID=UTC:20190413T160000
DTSTAMP:20260423T060038
CREATED:20190125T222742Z
LAST-MODIFIED:20190125T222742Z
UID:13328-1555149600-1555171200@fromvictoryroad.com
SUMMARY:The Workroom Artisan Market
DESCRIPTION:Come help celebrate The Workroom’s 6th anniversary with me!  My goal is to have a lovely art booth set up where I will have original art\, mounted prints\, cards\, journals… and fingers crossed\, the great messenger bag comeback!!
URL:https://fromvictoryroad.com/event/the-workroom-artisan-market/
LOCATION:The Workroom\, 150 N. Cleveland St.\, Wichita\, KS\, 67214\, United States
CATEGORIES:Art Show,Craft Shows
END:VEVENT
BEGIN:VEVENT
DTSTART;TZID=UTC:20190426T173000
DTEND;TZID=UTC:20190426T213000
DTSTAMP:20260423T060038
CREATED:20190126T160154Z
LAST-MODIFIED:20190126T160154Z
UID:13358-1556299800-1556314200@fromvictoryroad.com
SUMMARY:Final Friday Art Crawl
DESCRIPTION:
URL:https://fromvictoryroad.com/event/final-friday-art-crawl-5/
CATEGORIES:Art Crawl
END:VEVENT
BEGIN:VEVENT
DTSTART;TZID=UTC:20190427T090000
DTEND;TZID=UTC:20190427T120000
DTSTAMP:20260423T060038
CREATED:20190125T223245Z
LAST-MODIFIED:20190125T223245Z
UID:13330-1556355600-1556366400@fromvictoryroad.com
SUMMARY:Citra Solv Session I
DESCRIPTION:  \n\nSOLD OUT! Citra Solv Basics and More \n\n 
URL:https://fromvictoryroad.com/event/citra-solv-session-i/
LOCATION:Victory Road\, KS\, United States
CATEGORIES:Workshops
ATTACH;FMTTYPE=image/jpeg:https://fromvictoryroad.com/wp-content/uploads/2019/01/7.jpg
ORGANIZER;CN="Kayann Ausherman":MAILTO:victoryrd@hotmail.com
END:VEVENT
BEGIN:VEVENT
DTSTART;TZID=UTC:20190427T130000
DTEND;TZID=UTC:20190427T160000
DTSTAMP:20260423T060038
CREATED:20190125T223744Z
LAST-MODIFIED:20190125T223744Z
UID:13333-1556370000-1556380800@fromvictoryroad.com
SUMMARY:Citra Solv Session II
DESCRIPTION:Citra Solv II Advanced In Person Workshop
URL:https://fromvictoryroad.com/event/citra-solv-session-ii/
LOCATION:Victory Road\, KS\, United States
CATEGORIES:Workshops
ATTACH;FMTTYPE=image/jpeg:https://fromvictoryroad.com/wp-content/uploads/2017/12/Two-in-Blue-wm.jpg
ORGANIZER;CN="Kayann Ausherman":MAILTO:victoryrd@hotmail.com
END:VEVENT
END:VCALENDAR